BEGIN:VCALENDAR
VERSION:2.0
PRODID:-//EXCELLENT GOD MINISTRIES - ECPv6.0.7//NONSGML v1.0//EN
CALSCALE:GREGORIAN
METHOD:PUBLISH
X-ORIGINAL-URL:https://www.excellentgodministries.com
X-WR-CALDESC:Events for EXCELLENT GOD MINISTRIES
REFRESH-INTERVAL;VALUE=DURATION:PT1H
X-Robots-Tag:noindex
X-PUBLISHED-TTL:PT1H
BEGIN:VTIMEZONE
TZID:Europe/Dublin
BEGIN:STANDARD
TZOFFSETFROM:+0000
TZOFFSETTO:+0100
TZNAME:IST
DTSTART:20260329T010000
END:STANDARD
BEGIN:DAYLIGHT
TZOFFSETFROM:+0100
TZOFFSETTO:+0000
TZNAME:GMT
DTSTART:20261025T010000
END:DAYLIGHT
END:VTIMEZONE
BEGIN:VEVENT
DTSTART;TZID=Europe/Dublin:20260830T170000
DTEND;TZID=Europe/Dublin:20260830T183000
DTSTAMP:20260423T140731
CREATED:20230124T193720Z
LAST-MODIFIED:20230124T205817Z
UID:10000188-1788109200-1788114600@www.excellentgodministries.com
SUMMARY:Sunday Service
DESCRIPTION:Join Our Power Packed Sunday Services
URL:https://www.excellentgodministries.com/event/sunday-service/2026-08-30/
LOCATION:Excellent God Ministries\, Lucan Co k78 k248\, Dublin\, Ireland
ATTACH;FMTTYPE=image/jpeg:https://www.excellentgodministries.com/wp-content/uploads/2023/01/WhatsApp-Image-2023-01-24-at-8.18.32-PM.jpeg
END:VEVENT
BEGIN:VEVENT
DTSTART;TZID=Europe/Dublin:20260901T170000
DTEND;TZID=Europe/Dublin:20260901T170000
DTSTAMP:20260423T140731
CREATED:20230124T210205Z
LAST-MODIFIED:20230124T210205Z
UID:10000449-1788282000-1788282000@www.excellentgodministries.com
SUMMARY:Prayer Room Service
DESCRIPTION:
URL:https://www.excellentgodministries.com/event/prayer-room-service/2026-09-01/
LOCATION:Excellent God Ministries\, Lucan Co k78 k248\, Dublin\, Ireland
ATTACH;FMTTYPE=image/jpeg:https://www.excellentgodministries.com/wp-content/uploads/2023/01/bible.jpg
END:VEVENT
BEGIN:VEVENT
DTSTART;TZID=Europe/Dublin:20260906T170000
DTEND;TZID=Europe/Dublin:20260906T183000
DTSTAMP:20260423T140731
CREATED:20230124T193720Z
LAST-MODIFIED:20230124T205817Z
UID:10000189-1788714000-1788719400@www.excellentgodministries.com
SUMMARY:Sunday Service
DESCRIPTION:Join Our Power Packed Sunday Services
URL:https://www.excellentgodministries.com/event/sunday-service/2026-09-06/
LOCATION:Excellent God Ministries\, Lucan Co k78 k248\, Dublin\, Ireland
ATTACH;FMTTYPE=image/jpeg:https://www.excellentgodministries.com/wp-content/uploads/2023/01/WhatsApp-Image-2023-01-24-at-8.18.32-PM.jpeg
END:VEVENT
BEGIN:VEVENT
DTSTART;TZID=Europe/Dublin:20260908T170000
DTEND;TZID=Europe/Dublin:20260908T170000
DTSTAMP:20260423T140731
CREATED:20230124T210205Z
LAST-MODIFIED:20230124T210205Z
UID:10000450-1788886800-1788886800@www.excellentgodministries.com
SUMMARY:Prayer Room Service
DESCRIPTION:
URL:https://www.excellentgodministries.com/event/prayer-room-service/2026-09-08/
LOCATION:Excellent God Ministries\, Lucan Co k78 k248\, Dublin\, Ireland
ATTACH;FMTTYPE=image/jpeg:https://www.excellentgodministries.com/wp-content/uploads/2023/01/bible.jpg
END:VEVENT
BEGIN:VEVENT
DTSTART;TZID=Europe/Dublin:20260913T170000
DTEND;TZID=Europe/Dublin:20260913T183000
DTSTAMP:20260423T140731
CREATED:20230124T193720Z
LAST-MODIFIED:20230124T205817Z
UID:10000190-1789318800-1789324200@www.excellentgodministries.com
SUMMARY:Sunday Service
DESCRIPTION:Join Our Power Packed Sunday Services
URL:https://www.excellentgodministries.com/event/sunday-service/2026-09-13/
LOCATION:Excellent God Ministries\, Lucan Co k78 k248\, Dublin\, Ireland
ATTACH;FMTTYPE=image/jpeg:https://www.excellentgodministries.com/wp-content/uploads/2023/01/WhatsApp-Image-2023-01-24-at-8.18.32-PM.jpeg
END:VEVENT
BEGIN:VEVENT
DTSTART;TZID=Europe/Dublin:20260915T170000
DTEND;TZID=Europe/Dublin:20260915T170000
DTSTAMP:20260423T140731
CREATED:20230124T210205Z
LAST-MODIFIED:20230124T210205Z
UID:10000451-1789491600-1789491600@www.excellentgodministries.com
SUMMARY:Prayer Room Service
DESCRIPTION:
URL:https://www.excellentgodministries.com/event/prayer-room-service/2026-09-15/
LOCATION:Excellent God Ministries\, Lucan Co k78 k248\, Dublin\, Ireland
ATTACH;FMTTYPE=image/jpeg:https://www.excellentgodministries.com/wp-content/uploads/2023/01/bible.jpg
END:VEVENT
BEGIN:VEVENT
DTSTART;TZID=Europe/Dublin:20260920T170000
DTEND;TZID=Europe/Dublin:20260920T183000
DTSTAMP:20260423T140731
CREATED:20230124T193720Z
LAST-MODIFIED:20230124T205817Z
UID:10000191-1789923600-1789929000@www.excellentgodministries.com
SUMMARY:Sunday Service
DESCRIPTION:Join Our Power Packed Sunday Services
URL:https://www.excellentgodministries.com/event/sunday-service/2026-09-20/
LOCATION:Excellent God Ministries\, Lucan Co k78 k248\, Dublin\, Ireland
ATTACH;FMTTYPE=image/jpeg:https://www.excellentgodministries.com/wp-content/uploads/2023/01/WhatsApp-Image-2023-01-24-at-8.18.32-PM.jpeg
END:VEVENT
BEGIN:VEVENT
DTSTART;TZID=Europe/Dublin:20260922T170000
DTEND;TZID=Europe/Dublin:20260922T170000
DTSTAMP:20260423T140731
CREATED:20230124T210205Z
LAST-MODIFIED:20230124T210205Z
UID:10000452-1790096400-1790096400@www.excellentgodministries.com
SUMMARY:Prayer Room Service
DESCRIPTION:
URL:https://www.excellentgodministries.com/event/prayer-room-service/2026-09-22/
LOCATION:Excellent God Ministries\, Lucan Co k78 k248\, Dublin\, Ireland
ATTACH;FMTTYPE=image/jpeg:https://www.excellentgodministries.com/wp-content/uploads/2023/01/bible.jpg
END:VEVENT
BEGIN:VEVENT
DTSTART;TZID=Europe/Dublin:20260927T170000
DTEND;TZID=Europe/Dublin:20260927T183000
DTSTAMP:20260423T140731
CREATED:20230124T193720Z
LAST-MODIFIED:20230124T205817Z
UID:10000192-1790528400-1790533800@www.excellentgodministries.com
SUMMARY:Sunday Service
DESCRIPTION:Join Our Power Packed Sunday Services
URL:https://www.excellentgodministries.com/event/sunday-service/2026-09-27/
LOCATION:Excellent God Ministries\, Lucan Co k78 k248\, Dublin\, Ireland
ATTACH;FMTTYPE=image/jpeg:https://www.excellentgodministries.com/wp-content/uploads/2023/01/WhatsApp-Image-2023-01-24-at-8.18.32-PM.jpeg
END:VEVENT
BEGIN:VEVENT
DTSTART;TZID=Europe/Dublin:20260929T170000
DTEND;TZID=Europe/Dublin:20260929T170000
DTSTAMP:20260423T140731
CREATED:20230124T210205Z
LAST-MODIFIED:20230124T210205Z
UID:10000453-1790701200-1790701200@www.excellentgodministries.com
SUMMARY:Prayer Room Service
DESCRIPTION:
URL:https://www.excellentgodministries.com/event/prayer-room-service/2026-09-29/
LOCATION:Excellent God Ministries\, Lucan Co k78 k248\, Dublin\, Ireland
ATTACH;FMTTYPE=image/jpeg:https://www.excellentgodministries.com/wp-content/uploads/2023/01/bible.jpg
END:VEVENT
BEGIN:VEVENT
DTSTART;TZID=Europe/Dublin:20261004T170000
DTEND;TZID=Europe/Dublin:20261004T183000
DTSTAMP:20260423T140731
CREATED:20230124T193720Z
LAST-MODIFIED:20230124T205817Z
UID:10000193-1791133200-1791138600@www.excellentgodministries.com
SUMMARY:Sunday Service
DESCRIPTION:Join Our Power Packed Sunday Services
URL:https://www.excellentgodministries.com/event/sunday-service/2026-10-04/
LOCATION:Excellent God Ministries\, Lucan Co k78 k248\, Dublin\, Ireland
ATTACH;FMTTYPE=image/jpeg:https://www.excellentgodministries.com/wp-content/uploads/2023/01/WhatsApp-Image-2023-01-24-at-8.18.32-PM.jpeg
END:VEVENT
BEGIN:VEVENT
DTSTART;TZID=Europe/Dublin:20261006T170000
DTEND;TZID=Europe/Dublin:20261006T170000
DTSTAMP:20260423T140731
CREATED:20230124T210205Z
LAST-MODIFIED:20230124T210205Z
UID:10000454-1791306000-1791306000@www.excellentgodministries.com
SUMMARY:Prayer Room Service
DESCRIPTION:
URL:https://www.excellentgodministries.com/event/prayer-room-service/2026-10-06/
LOCATION:Excellent God Ministries\, Lucan Co k78 k248\, Dublin\, Ireland
ATTACH;FMTTYPE=image/jpeg:https://www.excellentgodministries.com/wp-content/uploads/2023/01/bible.jpg
END:VEVENT
BEGIN:VEVENT
DTSTART;TZID=Europe/Dublin:20261011T170000
DTEND;TZID=Europe/Dublin:20261011T183000
DTSTAMP:20260423T140731
CREATED:20230124T193720Z
LAST-MODIFIED:20230124T205817Z
UID:10000194-1791738000-1791743400@www.excellentgodministries.com
SUMMARY:Sunday Service
DESCRIPTION:Join Our Power Packed Sunday Services
URL:https://www.excellentgodministries.com/event/sunday-service/2026-10-11/
LOCATION:Excellent God Ministries\, Lucan Co k78 k248\, Dublin\, Ireland
ATTACH;FMTTYPE=image/jpeg:https://www.excellentgodministries.com/wp-content/uploads/2023/01/WhatsApp-Image-2023-01-24-at-8.18.32-PM.jpeg
END:VEVENT
BEGIN:VEVENT
DTSTART;TZID=Europe/Dublin:20261013T170000
DTEND;TZID=Europe/Dublin:20261013T170000
DTSTAMP:20260423T140731
CREATED:20230124T210205Z
LAST-MODIFIED:20230124T210205Z
UID:10000455-1791910800-1791910800@www.excellentgodministries.com
SUMMARY:Prayer Room Service
DESCRIPTION:
URL:https://www.excellentgodministries.com/event/prayer-room-service/2026-10-13/
LOCATION:Excellent God Ministries\, Lucan Co k78 k248\, Dublin\, Ireland
ATTACH;FMTTYPE=image/jpeg:https://www.excellentgodministries.com/wp-content/uploads/2023/01/bible.jpg
END:VEVENT
BEGIN:VEVENT
DTSTART;TZID=Europe/Dublin:20261018T170000
DTEND;TZID=Europe/Dublin:20261018T183000
DTSTAMP:20260423T140731
CREATED:20230124T193720Z
LAST-MODIFIED:20230124T205817Z
UID:10000195-1792342800-1792348200@www.excellentgodministries.com
SUMMARY:Sunday Service
DESCRIPTION:Join Our Power Packed Sunday Services
URL:https://www.excellentgodministries.com/event/sunday-service/2026-10-18/
LOCATION:Excellent God Ministries\, Lucan Co k78 k248\, Dublin\, Ireland
ATTACH;FMTTYPE=image/jpeg:https://www.excellentgodministries.com/wp-content/uploads/2023/01/WhatsApp-Image-2023-01-24-at-8.18.32-PM.jpeg
END:VEVENT
BEGIN:VEVENT
DTSTART;TZID=Europe/Dublin:20261020T170000
DTEND;TZID=Europe/Dublin:20261020T170000
DTSTAMP:20260423T140731
CREATED:20230124T210205Z
LAST-MODIFIED:20230124T210205Z
UID:10000456-1792515600-1792515600@www.excellentgodministries.com
SUMMARY:Prayer Room Service
DESCRIPTION:
URL:https://www.excellentgodministries.com/event/prayer-room-service/2026-10-20/
LOCATION:Excellent God Ministries\, Lucan Co k78 k248\, Dublin\, Ireland
ATTACH;FMTTYPE=image/jpeg:https://www.excellentgodministries.com/wp-content/uploads/2023/01/bible.jpg
END:VEVENT
BEGIN:VEVENT
DTSTART;TZID=Europe/Dublin:20261025T170000
DTEND;TZID=Europe/Dublin:20261025T183000
DTSTAMP:20260423T140731
CREATED:20230124T193720Z
LAST-MODIFIED:20230124T205817Z
UID:10000196-1792947600-1792953000@www.excellentgodministries.com
SUMMARY:Sunday Service
DESCRIPTION:Join Our Power Packed Sunday Services
URL:https://www.excellentgodministries.com/event/sunday-service/2026-10-25/
LOCATION:Excellent God Ministries\, Lucan Co k78 k248\, Dublin\, Ireland
ATTACH;FMTTYPE=image/jpeg:https://www.excellentgodministries.com/wp-content/uploads/2023/01/WhatsApp-Image-2023-01-24-at-8.18.32-PM.jpeg
END:VEVENT
BEGIN:VEVENT
DTSTART;TZID=Europe/Dublin:20261027T170000
DTEND;TZID=Europe/Dublin:20261027T170000
DTSTAMP:20260423T140731
CREATED:20230124T210205Z
LAST-MODIFIED:20230124T210205Z
UID:10000457-1793120400-1793120400@www.excellentgodministries.com
SUMMARY:Prayer Room Service
DESCRIPTION:
URL:https://www.excellentgodministries.com/event/prayer-room-service/2026-10-27/
LOCATION:Excellent God Ministries\, Lucan Co k78 k248\, Dublin\, Ireland
ATTACH;FMTTYPE=image/jpeg:https://www.excellentgodministries.com/wp-content/uploads/2023/01/bible.jpg
END:VEVENT
BEGIN:VEVENT
DTSTART;TZID=Europe/Dublin:20261101T170000
DTEND;TZID=Europe/Dublin:20261101T183000
DTSTAMP:20260423T140731
CREATED:20230124T193720Z
LAST-MODIFIED:20230124T205817Z
UID:10000197-1793552400-1793557800@www.excellentgodministries.com
SUMMARY:Sunday Service
DESCRIPTION:Join Our Power Packed Sunday Services
URL:https://www.excellentgodministries.com/event/sunday-service/2026-11-01/
LOCATION:Excellent God Ministries\, Lucan Co k78 k248\, Dublin\, Ireland
ATTACH;FMTTYPE=image/jpeg:https://www.excellentgodministries.com/wp-content/uploads/2023/01/WhatsApp-Image-2023-01-24-at-8.18.32-PM.jpeg
END:VEVENT
BEGIN:VEVENT
DTSTART;TZID=Europe/Dublin:20261103T170000
DTEND;TZID=Europe/Dublin:20261103T170000
DTSTAMP:20260423T140731
CREATED:20230124T210205Z
LAST-MODIFIED:20230124T210205Z
UID:10000458-1793725200-1793725200@www.excellentgodministries.com
SUMMARY:Prayer Room Service
DESCRIPTION:
URL:https://www.excellentgodministries.com/event/prayer-room-service/2026-11-03/
LOCATION:Excellent God Ministries\, Lucan Co k78 k248\, Dublin\, Ireland
ATTACH;FMTTYPE=image/jpeg:https://www.excellentgodministries.com/wp-content/uploads/2023/01/bible.jpg
END:VEVENT
BEGIN:VEVENT
DTSTART;TZID=Europe/Dublin:20261108T170000
DTEND;TZID=Europe/Dublin:20261108T183000
DTSTAMP:20260423T140731
CREATED:20230124T193720Z
LAST-MODIFIED:20230124T205817Z
UID:10000198-1794157200-1794162600@www.excellentgodministries.com
SUMMARY:Sunday Service
DESCRIPTION:Join Our Power Packed Sunday Services
URL:https://www.excellentgodministries.com/event/sunday-service/2026-11-08/
LOCATION:Excellent God Ministries\, Lucan Co k78 k248\, Dublin\, Ireland
ATTACH;FMTTYPE=image/jpeg:https://www.excellentgodministries.com/wp-content/uploads/2023/01/WhatsApp-Image-2023-01-24-at-8.18.32-PM.jpeg
END:VEVENT
BEGIN:VEVENT
DTSTART;TZID=Europe/Dublin:20261110T170000
DTEND;TZID=Europe/Dublin:20261110T170000
DTSTAMP:20260423T140731
CREATED:20230124T210205Z
LAST-MODIFIED:20230124T210205Z
UID:10000459-1794330000-1794330000@www.excellentgodministries.com
SUMMARY:Prayer Room Service
DESCRIPTION:
URL:https://www.excellentgodministries.com/event/prayer-room-service/2026-11-10/
LOCATION:Excellent God Ministries\, Lucan Co k78 k248\, Dublin\, Ireland
ATTACH;FMTTYPE=image/jpeg:https://www.excellentgodministries.com/wp-content/uploads/2023/01/bible.jpg
END:VEVENT
BEGIN:VEVENT
DTSTART;TZID=Europe/Dublin:20261115T170000
DTEND;TZID=Europe/Dublin:20261115T183000
DTSTAMP:20260423T140731
CREATED:20230124T193720Z
LAST-MODIFIED:20230124T205817Z
UID:10000199-1794762000-1794767400@www.excellentgodministries.com
SUMMARY:Sunday Service
DESCRIPTION:Join Our Power Packed Sunday Services
URL:https://www.excellentgodministries.com/event/sunday-service/2026-11-15/
LOCATION:Excellent God Ministries\, Lucan Co k78 k248\, Dublin\, Ireland
ATTACH;FMTTYPE=image/jpeg:https://www.excellentgodministries.com/wp-content/uploads/2023/01/WhatsApp-Image-2023-01-24-at-8.18.32-PM.jpeg
END:VEVENT
BEGIN:VEVENT
DTSTART;TZID=Europe/Dublin:20261117T170000
DTEND;TZID=Europe/Dublin:20261117T170000
DTSTAMP:20260423T140731
CREATED:20230124T210205Z
LAST-MODIFIED:20230124T210205Z
UID:10000460-1794934800-1794934800@www.excellentgodministries.com
SUMMARY:Prayer Room Service
DESCRIPTION:
URL:https://www.excellentgodministries.com/event/prayer-room-service/2026-11-17/
LOCATION:Excellent God Ministries\, Lucan Co k78 k248\, Dublin\, Ireland
ATTACH;FMTTYPE=image/jpeg:https://www.excellentgodministries.com/wp-content/uploads/2023/01/bible.jpg
END:VEVENT
BEGIN:VEVENT
DTSTART;TZID=Europe/Dublin:20261122T170000
DTEND;TZID=Europe/Dublin:20261122T183000
DTSTAMP:20260423T140731
CREATED:20230124T193720Z
LAST-MODIFIED:20230124T205817Z
UID:10000200-1795366800-1795372200@www.excellentgodministries.com
SUMMARY:Sunday Service
DESCRIPTION:Join Our Power Packed Sunday Services
URL:https://www.excellentgodministries.com/event/sunday-service/2026-11-22/
LOCATION:Excellent God Ministries\, Lucan Co k78 k248\, Dublin\, Ireland
ATTACH;FMTTYPE=image/jpeg:https://www.excellentgodministries.com/wp-content/uploads/2023/01/WhatsApp-Image-2023-01-24-at-8.18.32-PM.jpeg
END:VEVENT
BEGIN:VEVENT
DTSTART;TZID=Europe/Dublin:20261124T170000
DTEND;TZID=Europe/Dublin:20261124T170000
DTSTAMP:20260423T140731
CREATED:20230124T210205Z
LAST-MODIFIED:20230124T210205Z
UID:10000461-1795539600-1795539600@www.excellentgodministries.com
SUMMARY:Prayer Room Service
DESCRIPTION:
URL:https://www.excellentgodministries.com/event/prayer-room-service/2026-11-24/
LOCATION:Excellent God Ministries\, Lucan Co k78 k248\, Dublin\, Ireland
ATTACH;FMTTYPE=image/jpeg:https://www.excellentgodministries.com/wp-content/uploads/2023/01/bible.jpg
END:VEVENT
BEGIN:VEVENT
DTSTART;TZID=Europe/Dublin:20261129T170000
DTEND;TZID=Europe/Dublin:20261129T183000
DTSTAMP:20260423T140731
CREATED:20230124T193720Z
LAST-MODIFIED:20230124T205817Z
UID:10000201-1795971600-1795977000@www.excellentgodministries.com
SUMMARY:Sunday Service
DESCRIPTION:Join Our Power Packed Sunday Services
URL:https://www.excellentgodministries.com/event/sunday-service/2026-11-29/
LOCATION:Excellent God Ministries\, Lucan Co k78 k248\, Dublin\, Ireland
ATTACH;FMTTYPE=image/jpeg:https://www.excellentgodministries.com/wp-content/uploads/2023/01/WhatsApp-Image-2023-01-24-at-8.18.32-PM.jpeg
END:VEVENT
BEGIN:VEVENT
DTSTART;TZID=Europe/Dublin:20261201T170000
DTEND;TZID=Europe/Dublin:20261201T170000
DTSTAMP:20260423T140731
CREATED:20230124T210205Z
LAST-MODIFIED:20230124T210205Z
UID:10000462-1796144400-1796144400@www.excellentgodministries.com
SUMMARY:Prayer Room Service
DESCRIPTION:
URL:https://www.excellentgodministries.com/event/prayer-room-service/2026-12-01/
LOCATION:Excellent God Ministries\, Lucan Co k78 k248\, Dublin\, Ireland
ATTACH;FMTTYPE=image/jpeg:https://www.excellentgodministries.com/wp-content/uploads/2023/01/bible.jpg
END:VEVENT
BEGIN:VEVENT
DTSTART;TZID=Europe/Dublin:20261206T170000
DTEND;TZID=Europe/Dublin:20261206T183000
DTSTAMP:20260423T140731
CREATED:20230124T193720Z
LAST-MODIFIED:20230124T205817Z
UID:10000202-1796576400-1796581800@www.excellentgodministries.com
SUMMARY:Sunday Service
DESCRIPTION:Join Our Power Packed Sunday Services
URL:https://www.excellentgodministries.com/event/sunday-service/2026-12-06/
LOCATION:Excellent God Ministries\, Lucan Co k78 k248\, Dublin\, Ireland
ATTACH;FMTTYPE=image/jpeg:https://www.excellentgodministries.com/wp-content/uploads/2023/01/WhatsApp-Image-2023-01-24-at-8.18.32-PM.jpeg
END:VEVENT
BEGIN:VEVENT
DTSTART;TZID=Europe/Dublin:20261208T170000
DTEND;TZID=Europe/Dublin:20261208T170000
DTSTAMP:20260423T140731
CREATED:20230124T210205Z
LAST-MODIFIED:20230124T210205Z
UID:10000463-1796749200-1796749200@www.excellentgodministries.com
SUMMARY:Prayer Room Service
DESCRIPTION:
URL:https://www.excellentgodministries.com/event/prayer-room-service/2026-12-08/
LOCATION:Excellent God Ministries\, Lucan Co k78 k248\, Dublin\, Ireland
ATTACH;FMTTYPE=image/jpeg:https://www.excellentgodministries.com/wp-content/uploads/2023/01/bible.jpg
END:VEVENT
END:VCALENDAR