BEGIN:VCALENDAR
VERSION:2.0
PRODID:-//EXCELLENT GOD MINISTRIES - ECPv6.0.7//NONSGML v1.0//EN
CALSCALE:GREGORIAN
METHOD:PUBLISH
X-WR-CALNAME:EXCELLENT GOD MINISTRIES
X-ORIGINAL-URL:https://www.excellentgodministries.com
X-WR-CALDESC:Events for EXCELLENT GOD MINISTRIES
REFRESH-INTERVAL;VALUE=DURATION:PT1H
X-Robots-Tag:noindex
X-PUBLISHED-TTL:PT1H
BEGIN:VTIMEZONE
TZID:Europe/Dublin
BEGIN:STANDARD
TZOFFSETFROM:+0000
TZOFFSETTO:+0100
TZNAME:IST
DTSTART:20250330T010000
END:STANDARD
BEGIN:DAYLIGHT
TZOFFSETFROM:+0100
TZOFFSETTO:+0000
TZNAME:GMT
DTSTART:20251026T010000
END:DAYLIGHT
BEGIN:STANDARD
TZOFFSETFROM:+0000
TZOFFSETTO:+0100
TZNAME:IST
DTSTART:20260329T010000
END:STANDARD
BEGIN:DAYLIGHT
TZOFFSETFROM:+0100
TZOFFSETTO:+0000
TZNAME:GMT
DTSTART:20261025T010000
END:DAYLIGHT
END:VTIMEZONE
BEGIN:VEVENT
DTSTART;TZID=Europe/Dublin:20251102T170000
DTEND;TZID=Europe/Dublin:20251102T183000
DTSTAMP:20260425T161743
CREATED:20230124T193720Z
LAST-MODIFIED:20230124T205817Z
UID:10000145-1762102800-1762108200@www.excellentgodministries.com
SUMMARY:Sunday Service
DESCRIPTION:Join Our Power Packed Sunday Services
URL:https://www.excellentgodministries.com/event/sunday-service/2025-11-02/
LOCATION:Excellent God Ministries\, Lucan Co k78 k248\, Dublin\, Ireland
ATTACH;FMTTYPE=image/jpeg:https://www.excellentgodministries.com/wp-content/uploads/2023/01/WhatsApp-Image-2023-01-24-at-8.18.32-PM.jpeg
END:VEVENT
BEGIN:VEVENT
DTSTART;TZID=Europe/Dublin:20251104T170000
DTEND;TZID=Europe/Dublin:20251104T170000
DTSTAMP:20260425T161743
CREATED:20230124T210205Z
LAST-MODIFIED:20230124T210205Z
UID:10000406-1762275600-1762275600@www.excellentgodministries.com
SUMMARY:Prayer Room Service
DESCRIPTION:
URL:https://www.excellentgodministries.com/event/prayer-room-service/2025-11-04/
LOCATION:Excellent God Ministries\, Lucan Co k78 k248\, Dublin\, Ireland
ATTACH;FMTTYPE=image/jpeg:https://www.excellentgodministries.com/wp-content/uploads/2023/01/bible.jpg
END:VEVENT
BEGIN:VEVENT
DTSTART;TZID=Europe/Dublin:20251109T170000
DTEND;TZID=Europe/Dublin:20251109T183000
DTSTAMP:20260425T161743
CREATED:20230124T193720Z
LAST-MODIFIED:20230124T205817Z
UID:10000146-1762707600-1762713000@www.excellentgodministries.com
SUMMARY:Sunday Service
DESCRIPTION:Join Our Power Packed Sunday Services
URL:https://www.excellentgodministries.com/event/sunday-service/2025-11-09/
LOCATION:Excellent God Ministries\, Lucan Co k78 k248\, Dublin\, Ireland
ATTACH;FMTTYPE=image/jpeg:https://www.excellentgodministries.com/wp-content/uploads/2023/01/WhatsApp-Image-2023-01-24-at-8.18.32-PM.jpeg
END:VEVENT
BEGIN:VEVENT
DTSTART;TZID=Europe/Dublin:20251111T170000
DTEND;TZID=Europe/Dublin:20251111T170000
DTSTAMP:20260425T161743
CREATED:20230124T210205Z
LAST-MODIFIED:20230124T210205Z
UID:10000407-1762880400-1762880400@www.excellentgodministries.com
SUMMARY:Prayer Room Service
DESCRIPTION:
URL:https://www.excellentgodministries.com/event/prayer-room-service/2025-11-11/
LOCATION:Excellent God Ministries\, Lucan Co k78 k248\, Dublin\, Ireland
ATTACH;FMTTYPE=image/jpeg:https://www.excellentgodministries.com/wp-content/uploads/2023/01/bible.jpg
END:VEVENT
BEGIN:VEVENT
DTSTART;TZID=Europe/Dublin:20251116T170000
DTEND;TZID=Europe/Dublin:20251116T183000
DTSTAMP:20260425T161743
CREATED:20230124T193720Z
LAST-MODIFIED:20230124T205817Z
UID:10000147-1763312400-1763317800@www.excellentgodministries.com
SUMMARY:Sunday Service
DESCRIPTION:Join Our Power Packed Sunday Services
URL:https://www.excellentgodministries.com/event/sunday-service/2025-11-16/
LOCATION:Excellent God Ministries\, Lucan Co k78 k248\, Dublin\, Ireland
ATTACH;FMTTYPE=image/jpeg:https://www.excellentgodministries.com/wp-content/uploads/2023/01/WhatsApp-Image-2023-01-24-at-8.18.32-PM.jpeg
END:VEVENT
BEGIN:VEVENT
DTSTART;TZID=Europe/Dublin:20251118T170000
DTEND;TZID=Europe/Dublin:20251118T170000
DTSTAMP:20260425T161743
CREATED:20230124T210205Z
LAST-MODIFIED:20230124T210205Z
UID:10000408-1763485200-1763485200@www.excellentgodministries.com
SUMMARY:Prayer Room Service
DESCRIPTION:
URL:https://www.excellentgodministries.com/event/prayer-room-service/2025-11-18/
LOCATION:Excellent God Ministries\, Lucan Co k78 k248\, Dublin\, Ireland
ATTACH;FMTTYPE=image/jpeg:https://www.excellentgodministries.com/wp-content/uploads/2023/01/bible.jpg
END:VEVENT
BEGIN:VEVENT
DTSTART;TZID=Europe/Dublin:20251123T170000
DTEND;TZID=Europe/Dublin:20251123T183000
DTSTAMP:20260425T161743
CREATED:20230124T193720Z
LAST-MODIFIED:20230124T205817Z
UID:10000148-1763917200-1763922600@www.excellentgodministries.com
SUMMARY:Sunday Service
DESCRIPTION:Join Our Power Packed Sunday Services
URL:https://www.excellentgodministries.com/event/sunday-service/2025-11-23/
LOCATION:Excellent God Ministries\, Lucan Co k78 k248\, Dublin\, Ireland
ATTACH;FMTTYPE=image/jpeg:https://www.excellentgodministries.com/wp-content/uploads/2023/01/WhatsApp-Image-2023-01-24-at-8.18.32-PM.jpeg
END:VEVENT
BEGIN:VEVENT
DTSTART;TZID=Europe/Dublin:20251125T170000
DTEND;TZID=Europe/Dublin:20251125T170000
DTSTAMP:20260425T161743
CREATED:20230124T210205Z
LAST-MODIFIED:20230124T210205Z
UID:10000409-1764090000-1764090000@www.excellentgodministries.com
SUMMARY:Prayer Room Service
DESCRIPTION:
URL:https://www.excellentgodministries.com/event/prayer-room-service/2025-11-25/
LOCATION:Excellent God Ministries\, Lucan Co k78 k248\, Dublin\, Ireland
ATTACH;FMTTYPE=image/jpeg:https://www.excellentgodministries.com/wp-content/uploads/2023/01/bible.jpg
END:VEVENT
BEGIN:VEVENT
DTSTART;TZID=Europe/Dublin:20251130T170000
DTEND;TZID=Europe/Dublin:20251130T183000
DTSTAMP:20260425T161743
CREATED:20230124T193720Z
LAST-MODIFIED:20230124T205817Z
UID:10000149-1764522000-1764527400@www.excellentgodministries.com
SUMMARY:Sunday Service
DESCRIPTION:Join Our Power Packed Sunday Services
URL:https://www.excellentgodministries.com/event/sunday-service/2025-11-30/
LOCATION:Excellent God Ministries\, Lucan Co k78 k248\, Dublin\, Ireland
ATTACH;FMTTYPE=image/jpeg:https://www.excellentgodministries.com/wp-content/uploads/2023/01/WhatsApp-Image-2023-01-24-at-8.18.32-PM.jpeg
END:VEVENT
BEGIN:VEVENT
DTSTART;TZID=Europe/Dublin:20251202T170000
DTEND;TZID=Europe/Dublin:20251202T170000
DTSTAMP:20260425T161743
CREATED:20230124T210205Z
LAST-MODIFIED:20230124T210205Z
UID:10000410-1764694800-1764694800@www.excellentgodministries.com
SUMMARY:Prayer Room Service
DESCRIPTION:
URL:https://www.excellentgodministries.com/event/prayer-room-service/2025-12-02/
LOCATION:Excellent God Ministries\, Lucan Co k78 k248\, Dublin\, Ireland
ATTACH;FMTTYPE=image/jpeg:https://www.excellentgodministries.com/wp-content/uploads/2023/01/bible.jpg
END:VEVENT
BEGIN:VEVENT
DTSTART;TZID=Europe/Dublin:20251207T170000
DTEND;TZID=Europe/Dublin:20251207T183000
DTSTAMP:20260425T161743
CREATED:20230124T193720Z
LAST-MODIFIED:20230124T205817Z
UID:10000150-1765126800-1765132200@www.excellentgodministries.com
SUMMARY:Sunday Service
DESCRIPTION:Join Our Power Packed Sunday Services
URL:https://www.excellentgodministries.com/event/sunday-service/2025-12-07/
LOCATION:Excellent God Ministries\, Lucan Co k78 k248\, Dublin\, Ireland
ATTACH;FMTTYPE=image/jpeg:https://www.excellentgodministries.com/wp-content/uploads/2023/01/WhatsApp-Image-2023-01-24-at-8.18.32-PM.jpeg
END:VEVENT
BEGIN:VEVENT
DTSTART;TZID=Europe/Dublin:20251209T170000
DTEND;TZID=Europe/Dublin:20251209T170000
DTSTAMP:20260425T161743
CREATED:20230124T210205Z
LAST-MODIFIED:20230124T210205Z
UID:10000411-1765299600-1765299600@www.excellentgodministries.com
SUMMARY:Prayer Room Service
DESCRIPTION:
URL:https://www.excellentgodministries.com/event/prayer-room-service/2025-12-09/
LOCATION:Excellent God Ministries\, Lucan Co k78 k248\, Dublin\, Ireland
ATTACH;FMTTYPE=image/jpeg:https://www.excellentgodministries.com/wp-content/uploads/2023/01/bible.jpg
END:VEVENT
BEGIN:VEVENT
DTSTART;TZID=Europe/Dublin:20251214T170000
DTEND;TZID=Europe/Dublin:20251214T183000
DTSTAMP:20260425T161743
CREATED:20230124T193720Z
LAST-MODIFIED:20230124T205817Z
UID:10000151-1765731600-1765737000@www.excellentgodministries.com
SUMMARY:Sunday Service
DESCRIPTION:Join Our Power Packed Sunday Services
URL:https://www.excellentgodministries.com/event/sunday-service/2025-12-14/
LOCATION:Excellent God Ministries\, Lucan Co k78 k248\, Dublin\, Ireland
ATTACH;FMTTYPE=image/jpeg:https://www.excellentgodministries.com/wp-content/uploads/2023/01/WhatsApp-Image-2023-01-24-at-8.18.32-PM.jpeg
END:VEVENT
BEGIN:VEVENT
DTSTART;TZID=Europe/Dublin:20251216T170000
DTEND;TZID=Europe/Dublin:20251216T170000
DTSTAMP:20260425T161743
CREATED:20230124T210205Z
LAST-MODIFIED:20230124T210205Z
UID:10000412-1765904400-1765904400@www.excellentgodministries.com
SUMMARY:Prayer Room Service
DESCRIPTION:
URL:https://www.excellentgodministries.com/event/prayer-room-service/2025-12-16/
LOCATION:Excellent God Ministries\, Lucan Co k78 k248\, Dublin\, Ireland
ATTACH;FMTTYPE=image/jpeg:https://www.excellentgodministries.com/wp-content/uploads/2023/01/bible.jpg
END:VEVENT
BEGIN:VEVENT
DTSTART;TZID=Europe/Dublin:20251221T170000
DTEND;TZID=Europe/Dublin:20251221T183000
DTSTAMP:20260425T161744
CREATED:20230124T193720Z
LAST-MODIFIED:20230124T205817Z
UID:10000152-1766336400-1766341800@www.excellentgodministries.com
SUMMARY:Sunday Service
DESCRIPTION:Join Our Power Packed Sunday Services
URL:https://www.excellentgodministries.com/event/sunday-service/2025-12-21/
LOCATION:Excellent God Ministries\, Lucan Co k78 k248\, Dublin\, Ireland
ATTACH;FMTTYPE=image/jpeg:https://www.excellentgodministries.com/wp-content/uploads/2023/01/WhatsApp-Image-2023-01-24-at-8.18.32-PM.jpeg
END:VEVENT
BEGIN:VEVENT
DTSTART;TZID=Europe/Dublin:20251223T170000
DTEND;TZID=Europe/Dublin:20251223T170000
DTSTAMP:20260425T161744
CREATED:20230124T210205Z
LAST-MODIFIED:20230124T210205Z
UID:10000413-1766509200-1766509200@www.excellentgodministries.com
SUMMARY:Prayer Room Service
DESCRIPTION:
URL:https://www.excellentgodministries.com/event/prayer-room-service/2025-12-23/
LOCATION:Excellent God Ministries\, Lucan Co k78 k248\, Dublin\, Ireland
ATTACH;FMTTYPE=image/jpeg:https://www.excellentgodministries.com/wp-content/uploads/2023/01/bible.jpg
END:VEVENT
BEGIN:VEVENT
DTSTART;TZID=Europe/Dublin:20251228T170000
DTEND;TZID=Europe/Dublin:20251228T183000
DTSTAMP:20260425T161744
CREATED:20230124T193720Z
LAST-MODIFIED:20230124T205817Z
UID:10000153-1766941200-1766946600@www.excellentgodministries.com
SUMMARY:Sunday Service
DESCRIPTION:Join Our Power Packed Sunday Services
URL:https://www.excellentgodministries.com/event/sunday-service/2025-12-28/
LOCATION:Excellent God Ministries\, Lucan Co k78 k248\, Dublin\, Ireland
ATTACH;FMTTYPE=image/jpeg:https://www.excellentgodministries.com/wp-content/uploads/2023/01/WhatsApp-Image-2023-01-24-at-8.18.32-PM.jpeg
END:VEVENT
BEGIN:VEVENT
DTSTART;TZID=Europe/Dublin:20251230T170000
DTEND;TZID=Europe/Dublin:20251230T170000
DTSTAMP:20260425T161744
CREATED:20230124T210205Z
LAST-MODIFIED:20230124T210205Z
UID:10000414-1767114000-1767114000@www.excellentgodministries.com
SUMMARY:Prayer Room Service
DESCRIPTION:
URL:https://www.excellentgodministries.com/event/prayer-room-service/2025-12-30/
LOCATION:Excellent God Ministries\, Lucan Co k78 k248\, Dublin\, Ireland
ATTACH;FMTTYPE=image/jpeg:https://www.excellentgodministries.com/wp-content/uploads/2023/01/bible.jpg
END:VEVENT
BEGIN:VEVENT
DTSTART;TZID=Europe/Dublin:20260104T170000
DTEND;TZID=Europe/Dublin:20260104T183000
DTSTAMP:20260425T161744
CREATED:20230124T193720Z
LAST-MODIFIED:20230124T205817Z
UID:10000154-1767546000-1767551400@www.excellentgodministries.com
SUMMARY:Sunday Service
DESCRIPTION:Join Our Power Packed Sunday Services
URL:https://www.excellentgodministries.com/event/sunday-service/2026-01-04/
LOCATION:Excellent God Ministries\, Lucan Co k78 k248\, Dublin\, Ireland
ATTACH;FMTTYPE=image/jpeg:https://www.excellentgodministries.com/wp-content/uploads/2023/01/WhatsApp-Image-2023-01-24-at-8.18.32-PM.jpeg
END:VEVENT
BEGIN:VEVENT
DTSTART;TZID=Europe/Dublin:20260106T170000
DTEND;TZID=Europe/Dublin:20260106T170000
DTSTAMP:20260425T161744
CREATED:20230124T210205Z
LAST-MODIFIED:20230124T210205Z
UID:10000415-1767718800-1767718800@www.excellentgodministries.com
SUMMARY:Prayer Room Service
DESCRIPTION:
URL:https://www.excellentgodministries.com/event/prayer-room-service/2026-01-06/
LOCATION:Excellent God Ministries\, Lucan Co k78 k248\, Dublin\, Ireland
ATTACH;FMTTYPE=image/jpeg:https://www.excellentgodministries.com/wp-content/uploads/2023/01/bible.jpg
END:VEVENT
BEGIN:VEVENT
DTSTART;TZID=Europe/Dublin:20260111T170000
DTEND;TZID=Europe/Dublin:20260111T183000
DTSTAMP:20260425T161744
CREATED:20230124T193720Z
LAST-MODIFIED:20230124T205817Z
UID:10000155-1768150800-1768156200@www.excellentgodministries.com
SUMMARY:Sunday Service
DESCRIPTION:Join Our Power Packed Sunday Services
URL:https://www.excellentgodministries.com/event/sunday-service/2026-01-11/
LOCATION:Excellent God Ministries\, Lucan Co k78 k248\, Dublin\, Ireland
ATTACH;FMTTYPE=image/jpeg:https://www.excellentgodministries.com/wp-content/uploads/2023/01/WhatsApp-Image-2023-01-24-at-8.18.32-PM.jpeg
END:VEVENT
BEGIN:VEVENT
DTSTART;TZID=Europe/Dublin:20260113T170000
DTEND;TZID=Europe/Dublin:20260113T170000
DTSTAMP:20260425T161744
CREATED:20230124T210205Z
LAST-MODIFIED:20230124T210205Z
UID:10000416-1768323600-1768323600@www.excellentgodministries.com
SUMMARY:Prayer Room Service
DESCRIPTION:
URL:https://www.excellentgodministries.com/event/prayer-room-service/2026-01-13/
LOCATION:Excellent God Ministries\, Lucan Co k78 k248\, Dublin\, Ireland
ATTACH;FMTTYPE=image/jpeg:https://www.excellentgodministries.com/wp-content/uploads/2023/01/bible.jpg
END:VEVENT
BEGIN:VEVENT
DTSTART;TZID=Europe/Dublin:20260118T170000
DTEND;TZID=Europe/Dublin:20260118T183000
DTSTAMP:20260425T161744
CREATED:20230124T193720Z
LAST-MODIFIED:20230124T205817Z
UID:10000156-1768755600-1768761000@www.excellentgodministries.com
SUMMARY:Sunday Service
DESCRIPTION:Join Our Power Packed Sunday Services
URL:https://www.excellentgodministries.com/event/sunday-service/2026-01-18/
LOCATION:Excellent God Ministries\, Lucan Co k78 k248\, Dublin\, Ireland
ATTACH;FMTTYPE=image/jpeg:https://www.excellentgodministries.com/wp-content/uploads/2023/01/WhatsApp-Image-2023-01-24-at-8.18.32-PM.jpeg
END:VEVENT
BEGIN:VEVENT
DTSTART;TZID=Europe/Dublin:20260120T170000
DTEND;TZID=Europe/Dublin:20260120T170000
DTSTAMP:20260425T161744
CREATED:20230124T210205Z
LAST-MODIFIED:20230124T210205Z
UID:10000417-1768928400-1768928400@www.excellentgodministries.com
SUMMARY:Prayer Room Service
DESCRIPTION:
URL:https://www.excellentgodministries.com/event/prayer-room-service/2026-01-20/
LOCATION:Excellent God Ministries\, Lucan Co k78 k248\, Dublin\, Ireland
ATTACH;FMTTYPE=image/jpeg:https://www.excellentgodministries.com/wp-content/uploads/2023/01/bible.jpg
END:VEVENT
BEGIN:VEVENT
DTSTART;TZID=Europe/Dublin:20260125T170000
DTEND;TZID=Europe/Dublin:20260125T183000
DTSTAMP:20260425T161744
CREATED:20230124T193720Z
LAST-MODIFIED:20230124T205817Z
UID:10000157-1769360400-1769365800@www.excellentgodministries.com
SUMMARY:Sunday Service
DESCRIPTION:Join Our Power Packed Sunday Services
URL:https://www.excellentgodministries.com/event/sunday-service/2026-01-25/
LOCATION:Excellent God Ministries\, Lucan Co k78 k248\, Dublin\, Ireland
ATTACH;FMTTYPE=image/jpeg:https://www.excellentgodministries.com/wp-content/uploads/2023/01/WhatsApp-Image-2023-01-24-at-8.18.32-PM.jpeg
END:VEVENT
BEGIN:VEVENT
DTSTART;TZID=Europe/Dublin:20260127T170000
DTEND;TZID=Europe/Dublin:20260127T170000
DTSTAMP:20260425T161744
CREATED:20230124T210205Z
LAST-MODIFIED:20230124T210205Z
UID:10000418-1769533200-1769533200@www.excellentgodministries.com
SUMMARY:Prayer Room Service
DESCRIPTION:
URL:https://www.excellentgodministries.com/event/prayer-room-service/2026-01-27/
LOCATION:Excellent God Ministries\, Lucan Co k78 k248\, Dublin\, Ireland
ATTACH;FMTTYPE=image/jpeg:https://www.excellentgodministries.com/wp-content/uploads/2023/01/bible.jpg
END:VEVENT
BEGIN:VEVENT
DTSTART;TZID=Europe/Dublin:20260201T170000
DTEND;TZID=Europe/Dublin:20260201T183000
DTSTAMP:20260425T161744
CREATED:20230124T193720Z
LAST-MODIFIED:20230124T205817Z
UID:10000158-1769965200-1769970600@www.excellentgodministries.com
SUMMARY:Sunday Service
DESCRIPTION:Join Our Power Packed Sunday Services
URL:https://www.excellentgodministries.com/event/sunday-service/2026-02-01/
LOCATION:Excellent God Ministries\, Lucan Co k78 k248\, Dublin\, Ireland
ATTACH;FMTTYPE=image/jpeg:https://www.excellentgodministries.com/wp-content/uploads/2023/01/WhatsApp-Image-2023-01-24-at-8.18.32-PM.jpeg
END:VEVENT
BEGIN:VEVENT
DTSTART;TZID=Europe/Dublin:20260203T170000
DTEND;TZID=Europe/Dublin:20260203T170000
DTSTAMP:20260425T161744
CREATED:20230124T210205Z
LAST-MODIFIED:20230124T210205Z
UID:10000419-1770138000-1770138000@www.excellentgodministries.com
SUMMARY:Prayer Room Service
DESCRIPTION:
URL:https://www.excellentgodministries.com/event/prayer-room-service/2026-02-03/
LOCATION:Excellent God Ministries\, Lucan Co k78 k248\, Dublin\, Ireland
ATTACH;FMTTYPE=image/jpeg:https://www.excellentgodministries.com/wp-content/uploads/2023/01/bible.jpg
END:VEVENT
BEGIN:VEVENT
DTSTART;TZID=Europe/Dublin:20260208T170000
DTEND;TZID=Europe/Dublin:20260208T183000
DTSTAMP:20260425T161744
CREATED:20230124T193720Z
LAST-MODIFIED:20230124T205817Z
UID:10000159-1770570000-1770575400@www.excellentgodministries.com
SUMMARY:Sunday Service
DESCRIPTION:Join Our Power Packed Sunday Services
URL:https://www.excellentgodministries.com/event/sunday-service/2026-02-08/
LOCATION:Excellent God Ministries\, Lucan Co k78 k248\, Dublin\, Ireland
ATTACH;FMTTYPE=image/jpeg:https://www.excellentgodministries.com/wp-content/uploads/2023/01/WhatsApp-Image-2023-01-24-at-8.18.32-PM.jpeg
END:VEVENT
BEGIN:VEVENT
DTSTART;TZID=Europe/Dublin:20260210T170000
DTEND;TZID=Europe/Dublin:20260210T170000
DTSTAMP:20260425T161744
CREATED:20230124T210205Z
LAST-MODIFIED:20230124T210205Z
UID:10000420-1770742800-1770742800@www.excellentgodministries.com
SUMMARY:Prayer Room Service
DESCRIPTION:
URL:https://www.excellentgodministries.com/event/prayer-room-service/2026-02-10/
LOCATION:Excellent God Ministries\, Lucan Co k78 k248\, Dublin\, Ireland
ATTACH;FMTTYPE=image/jpeg:https://www.excellentgodministries.com/wp-content/uploads/2023/01/bible.jpg
END:VEVENT
END:VCALENDAR