BEGIN:VCALENDAR
VERSION:2.0
PRODID:-//EXCELLENT GOD MINISTRIES - ECPv6.0.7//NONSGML v1.0//EN
CALSCALE:GREGORIAN
METHOD:PUBLISH
X-WR-CALNAME:EXCELLENT GOD MINISTRIES
X-ORIGINAL-URL:https://www.excellentgodministries.com
X-WR-CALDESC:Events for EXCELLENT GOD MINISTRIES
REFRESH-INTERVAL;VALUE=DURATION:PT1H
X-Robots-Tag:noindex
X-PUBLISHED-TTL:PT1H
BEGIN:VTIMEZONE
TZID:Europe/Dublin
BEGIN:STANDARD
TZOFFSETFROM:+0000
TZOFFSETTO:+0100
TZNAME:IST
DTSTART:20230326T010000
END:STANDARD
BEGIN:DAYLIGHT
TZOFFSETFROM:+0100
TZOFFSETTO:+0000
TZNAME:GMT
DTSTART:20231029T010000
END:DAYLIGHT
END:VTIMEZONE
BEGIN:VEVENT
DTSTART;TZID=Europe/Dublin:20230312T170000
DTEND;TZID=Europe/Dublin:20230312T183000
DTSTAMP:20260423T122738
CREATED:20230124T193720Z
LAST-MODIFIED:20230124T205817Z
UID:10000007-1678640400-1678645800@www.excellentgodministries.com
SUMMARY:Sunday Service
DESCRIPTION:Join Our Power Packed Sunday Services
URL:https://www.excellentgodministries.com/event/sunday-service/2023-03-12/
LOCATION:Excellent God Ministries\, Lucan Co k78 k248\, Dublin\, Ireland
ATTACH;FMTTYPE=image/jpeg:https://www.excellentgodministries.com/wp-content/uploads/2023/01/WhatsApp-Image-2023-01-24-at-8.18.32-PM.jpeg
END:VEVENT
BEGIN:VEVENT
DTSTART;TZID=Europe/Dublin:20230314T170000
DTEND;TZID=Europe/Dublin:20230314T170000
DTSTAMP:20260423T122738
CREATED:20230124T210205Z
LAST-MODIFIED:20230124T210205Z
UID:10000268-1678813200-1678813200@www.excellentgodministries.com
SUMMARY:Prayer Room Service
DESCRIPTION:
URL:https://www.excellentgodministries.com/event/prayer-room-service/2023-03-14/
LOCATION:Excellent God Ministries\, Lucan Co k78 k248\, Dublin\, Ireland
ATTACH;FMTTYPE=image/jpeg:https://www.excellentgodministries.com/wp-content/uploads/2023/01/bible.jpg
END:VEVENT
BEGIN:VEVENT
DTSTART;TZID=Europe/Dublin:20230319T170000
DTEND;TZID=Europe/Dublin:20230319T183000
DTSTAMP:20260423T122738
CREATED:20230124T193720Z
LAST-MODIFIED:20230124T205817Z
UID:10000008-1679245200-1679250600@www.excellentgodministries.com
SUMMARY:Sunday Service
DESCRIPTION:Join Our Power Packed Sunday Services
URL:https://www.excellentgodministries.com/event/sunday-service/2023-03-19/
LOCATION:Excellent God Ministries\, Lucan Co k78 k248\, Dublin\, Ireland
ATTACH;FMTTYPE=image/jpeg:https://www.excellentgodministries.com/wp-content/uploads/2023/01/WhatsApp-Image-2023-01-24-at-8.18.32-PM.jpeg
END:VEVENT
BEGIN:VEVENT
DTSTART;TZID=Europe/Dublin:20230321T170000
DTEND;TZID=Europe/Dublin:20230321T170000
DTSTAMP:20260423T122738
CREATED:20230124T210205Z
LAST-MODIFIED:20230124T210205Z
UID:10000269-1679418000-1679418000@www.excellentgodministries.com
SUMMARY:Prayer Room Service
DESCRIPTION:
URL:https://www.excellentgodministries.com/event/prayer-room-service/2023-03-21/
LOCATION:Excellent God Ministries\, Lucan Co k78 k248\, Dublin\, Ireland
ATTACH;FMTTYPE=image/jpeg:https://www.excellentgodministries.com/wp-content/uploads/2023/01/bible.jpg
END:VEVENT
BEGIN:VEVENT
DTSTART;TZID=Europe/Dublin:20230326T170000
DTEND;TZID=Europe/Dublin:20230326T183000
DTSTAMP:20260423T122738
CREATED:20230124T193720Z
LAST-MODIFIED:20230124T205817Z
UID:10000009-1679850000-1679855400@www.excellentgodministries.com
SUMMARY:Sunday Service
DESCRIPTION:Join Our Power Packed Sunday Services
URL:https://www.excellentgodministries.com/event/sunday-service/2023-03-26/
LOCATION:Excellent God Ministries\, Lucan Co k78 k248\, Dublin\, Ireland
ATTACH;FMTTYPE=image/jpeg:https://www.excellentgodministries.com/wp-content/uploads/2023/01/WhatsApp-Image-2023-01-24-at-8.18.32-PM.jpeg
END:VEVENT
BEGIN:VEVENT
DTSTART;TZID=Europe/Dublin:20230328T170000
DTEND;TZID=Europe/Dublin:20230328T170000
DTSTAMP:20260423T122738
CREATED:20230124T210205Z
LAST-MODIFIED:20230124T210205Z
UID:10000270-1680022800-1680022800@www.excellentgodministries.com
SUMMARY:Prayer Room Service
DESCRIPTION:
URL:https://www.excellentgodministries.com/event/prayer-room-service/2023-03-28/
LOCATION:Excellent God Ministries\, Lucan Co k78 k248\, Dublin\, Ireland
ATTACH;FMTTYPE=image/jpeg:https://www.excellentgodministries.com/wp-content/uploads/2023/01/bible.jpg
END:VEVENT
BEGIN:VEVENT
DTSTART;TZID=Europe/Dublin:20230402T170000
DTEND;TZID=Europe/Dublin:20230402T183000
DTSTAMP:20260423T122738
CREATED:20230124T193720Z
LAST-MODIFIED:20230124T205817Z
UID:10000010-1680454800-1680460200@www.excellentgodministries.com
SUMMARY:Sunday Service
DESCRIPTION:Join Our Power Packed Sunday Services
URL:https://www.excellentgodministries.com/event/sunday-service/2023-04-02/
LOCATION:Excellent God Ministries\, Lucan Co k78 k248\, Dublin\, Ireland
ATTACH;FMTTYPE=image/jpeg:https://www.excellentgodministries.com/wp-content/uploads/2023/01/WhatsApp-Image-2023-01-24-at-8.18.32-PM.jpeg
END:VEVENT
BEGIN:VEVENT
DTSTART;TZID=Europe/Dublin:20230404T170000
DTEND;TZID=Europe/Dublin:20230404T170000
DTSTAMP:20260423T122738
CREATED:20230124T210205Z
LAST-MODIFIED:20230124T210205Z
UID:10000271-1680627600-1680627600@www.excellentgodministries.com
SUMMARY:Prayer Room Service
DESCRIPTION:
URL:https://www.excellentgodministries.com/event/prayer-room-service/2023-04-04/
LOCATION:Excellent God Ministries\, Lucan Co k78 k248\, Dublin\, Ireland
ATTACH;FMTTYPE=image/jpeg:https://www.excellentgodministries.com/wp-content/uploads/2023/01/bible.jpg
END:VEVENT
BEGIN:VEVENT
DTSTART;TZID=Europe/Dublin:20230409T170000
DTEND;TZID=Europe/Dublin:20230409T183000
DTSTAMP:20260423T122738
CREATED:20230124T193720Z
LAST-MODIFIED:20230124T205817Z
UID:10000011-1681059600-1681065000@www.excellentgodministries.com
SUMMARY:Sunday Service
DESCRIPTION:Join Our Power Packed Sunday Services
URL:https://www.excellentgodministries.com/event/sunday-service/2023-04-09/
LOCATION:Excellent God Ministries\, Lucan Co k78 k248\, Dublin\, Ireland
ATTACH;FMTTYPE=image/jpeg:https://www.excellentgodministries.com/wp-content/uploads/2023/01/WhatsApp-Image-2023-01-24-at-8.18.32-PM.jpeg
END:VEVENT
BEGIN:VEVENT
DTSTART;TZID=Europe/Dublin:20230411T170000
DTEND;TZID=Europe/Dublin:20230411T170000
DTSTAMP:20260423T122738
CREATED:20230124T210205Z
LAST-MODIFIED:20230124T210205Z
UID:10000272-1681232400-1681232400@www.excellentgodministries.com
SUMMARY:Prayer Room Service
DESCRIPTION:
URL:https://www.excellentgodministries.com/event/prayer-room-service/2023-04-11/
LOCATION:Excellent God Ministries\, Lucan Co k78 k248\, Dublin\, Ireland
ATTACH;FMTTYPE=image/jpeg:https://www.excellentgodministries.com/wp-content/uploads/2023/01/bible.jpg
END:VEVENT
BEGIN:VEVENT
DTSTART;TZID=Europe/Dublin:20230416T170000
DTEND;TZID=Europe/Dublin:20230416T183000
DTSTAMP:20260423T122738
CREATED:20230124T193720Z
LAST-MODIFIED:20230124T205817Z
UID:10000012-1681664400-1681669800@www.excellentgodministries.com
SUMMARY:Sunday Service
DESCRIPTION:Join Our Power Packed Sunday Services
URL:https://www.excellentgodministries.com/event/sunday-service/2023-04-16/
LOCATION:Excellent God Ministries\, Lucan Co k78 k248\, Dublin\, Ireland
ATTACH;FMTTYPE=image/jpeg:https://www.excellentgodministries.com/wp-content/uploads/2023/01/WhatsApp-Image-2023-01-24-at-8.18.32-PM.jpeg
END:VEVENT
BEGIN:VEVENT
DTSTART;TZID=Europe/Dublin:20230418T170000
DTEND;TZID=Europe/Dublin:20230418T170000
DTSTAMP:20260423T122738
CREATED:20230124T210205Z
LAST-MODIFIED:20230124T210205Z
UID:10000273-1681837200-1681837200@www.excellentgodministries.com
SUMMARY:Prayer Room Service
DESCRIPTION:
URL:https://www.excellentgodministries.com/event/prayer-room-service/2023-04-18/
LOCATION:Excellent God Ministries\, Lucan Co k78 k248\, Dublin\, Ireland
ATTACH;FMTTYPE=image/jpeg:https://www.excellentgodministries.com/wp-content/uploads/2023/01/bible.jpg
END:VEVENT
BEGIN:VEVENT
DTSTART;TZID=Europe/Dublin:20230423T170000
DTEND;TZID=Europe/Dublin:20230423T183000
DTSTAMP:20260423T122738
CREATED:20230124T193720Z
LAST-MODIFIED:20230124T205817Z
UID:10000013-1682269200-1682274600@www.excellentgodministries.com
SUMMARY:Sunday Service
DESCRIPTION:Join Our Power Packed Sunday Services
URL:https://www.excellentgodministries.com/event/sunday-service/2023-04-23/
LOCATION:Excellent God Ministries\, Lucan Co k78 k248\, Dublin\, Ireland
ATTACH;FMTTYPE=image/jpeg:https://www.excellentgodministries.com/wp-content/uploads/2023/01/WhatsApp-Image-2023-01-24-at-8.18.32-PM.jpeg
END:VEVENT
BEGIN:VEVENT
DTSTART;TZID=Europe/Dublin:20230425T170000
DTEND;TZID=Europe/Dublin:20230425T170000
DTSTAMP:20260423T122738
CREATED:20230124T210205Z
LAST-MODIFIED:20230124T210205Z
UID:10000274-1682442000-1682442000@www.excellentgodministries.com
SUMMARY:Prayer Room Service
DESCRIPTION:
URL:https://www.excellentgodministries.com/event/prayer-room-service/2023-04-25/
LOCATION:Excellent God Ministries\, Lucan Co k78 k248\, Dublin\, Ireland
ATTACH;FMTTYPE=image/jpeg:https://www.excellentgodministries.com/wp-content/uploads/2023/01/bible.jpg
END:VEVENT
BEGIN:VEVENT
DTSTART;TZID=Europe/Dublin:20230430T170000
DTEND;TZID=Europe/Dublin:20230430T183000
DTSTAMP:20260423T122738
CREATED:20230124T193720Z
LAST-MODIFIED:20230124T205817Z
UID:10000014-1682874000-1682879400@www.excellentgodministries.com
SUMMARY:Sunday Service
DESCRIPTION:Join Our Power Packed Sunday Services
URL:https://www.excellentgodministries.com/event/sunday-service/2023-04-30/
LOCATION:Excellent God Ministries\, Lucan Co k78 k248\, Dublin\, Ireland
ATTACH;FMTTYPE=image/jpeg:https://www.excellentgodministries.com/wp-content/uploads/2023/01/WhatsApp-Image-2023-01-24-at-8.18.32-PM.jpeg
END:VEVENT
BEGIN:VEVENT
DTSTART;TZID=Europe/Dublin:20230502T170000
DTEND;TZID=Europe/Dublin:20230502T170000
DTSTAMP:20260423T122738
CREATED:20230124T210205Z
LAST-MODIFIED:20230124T210205Z
UID:10000275-1683046800-1683046800@www.excellentgodministries.com
SUMMARY:Prayer Room Service
DESCRIPTION:
URL:https://www.excellentgodministries.com/event/prayer-room-service/2023-05-02/
LOCATION:Excellent God Ministries\, Lucan Co k78 k248\, Dublin\, Ireland
ATTACH;FMTTYPE=image/jpeg:https://www.excellentgodministries.com/wp-content/uploads/2023/01/bible.jpg
END:VEVENT
BEGIN:VEVENT
DTSTART;TZID=Europe/Dublin:20230507T170000
DTEND;TZID=Europe/Dublin:20230507T183000
DTSTAMP:20260423T122738
CREATED:20230124T193720Z
LAST-MODIFIED:20230124T205817Z
UID:10000015-1683478800-1683484200@www.excellentgodministries.com
SUMMARY:Sunday Service
DESCRIPTION:Join Our Power Packed Sunday Services
URL:https://www.excellentgodministries.com/event/sunday-service/2023-05-07/
LOCATION:Excellent God Ministries\, Lucan Co k78 k248\, Dublin\, Ireland
ATTACH;FMTTYPE=image/jpeg:https://www.excellentgodministries.com/wp-content/uploads/2023/01/WhatsApp-Image-2023-01-24-at-8.18.32-PM.jpeg
END:VEVENT
BEGIN:VEVENT
DTSTART;TZID=Europe/Dublin:20230509T170000
DTEND;TZID=Europe/Dublin:20230509T170000
DTSTAMP:20260423T122738
CREATED:20230124T210205Z
LAST-MODIFIED:20230124T210205Z
UID:10000276-1683651600-1683651600@www.excellentgodministries.com
SUMMARY:Prayer Room Service
DESCRIPTION:
URL:https://www.excellentgodministries.com/event/prayer-room-service/2023-05-09/
LOCATION:Excellent God Ministries\, Lucan Co k78 k248\, Dublin\, Ireland
ATTACH;FMTTYPE=image/jpeg:https://www.excellentgodministries.com/wp-content/uploads/2023/01/bible.jpg
END:VEVENT
BEGIN:VEVENT
DTSTART;TZID=Europe/Dublin:20230514T170000
DTEND;TZID=Europe/Dublin:20230514T183000
DTSTAMP:20260423T122738
CREATED:20230124T193720Z
LAST-MODIFIED:20230124T205817Z
UID:10000016-1684083600-1684089000@www.excellentgodministries.com
SUMMARY:Sunday Service
DESCRIPTION:Join Our Power Packed Sunday Services
URL:https://www.excellentgodministries.com/event/sunday-service/2023-05-14/
LOCATION:Excellent God Ministries\, Lucan Co k78 k248\, Dublin\, Ireland
ATTACH;FMTTYPE=image/jpeg:https://www.excellentgodministries.com/wp-content/uploads/2023/01/WhatsApp-Image-2023-01-24-at-8.18.32-PM.jpeg
END:VEVENT
BEGIN:VEVENT
DTSTART;TZID=Europe/Dublin:20230516T170000
DTEND;TZID=Europe/Dublin:20230516T170000
DTSTAMP:20260423T122738
CREATED:20230124T210205Z
LAST-MODIFIED:20230124T210205Z
UID:10000277-1684256400-1684256400@www.excellentgodministries.com
SUMMARY:Prayer Room Service
DESCRIPTION:
URL:https://www.excellentgodministries.com/event/prayer-room-service/2023-05-16/
LOCATION:Excellent God Ministries\, Lucan Co k78 k248\, Dublin\, Ireland
ATTACH;FMTTYPE=image/jpeg:https://www.excellentgodministries.com/wp-content/uploads/2023/01/bible.jpg
END:VEVENT
BEGIN:VEVENT
DTSTART;TZID=Europe/Dublin:20230521T170000
DTEND;TZID=Europe/Dublin:20230521T183000
DTSTAMP:20260423T122738
CREATED:20230124T193720Z
LAST-MODIFIED:20230124T205817Z
UID:10000017-1684688400-1684693800@www.excellentgodministries.com
SUMMARY:Sunday Service
DESCRIPTION:Join Our Power Packed Sunday Services
URL:https://www.excellentgodministries.com/event/sunday-service/2023-05-21/
LOCATION:Excellent God Ministries\, Lucan Co k78 k248\, Dublin\, Ireland
ATTACH;FMTTYPE=image/jpeg:https://www.excellentgodministries.com/wp-content/uploads/2023/01/WhatsApp-Image-2023-01-24-at-8.18.32-PM.jpeg
END:VEVENT
BEGIN:VEVENT
DTSTART;TZID=Europe/Dublin:20230523T170000
DTEND;TZID=Europe/Dublin:20230523T170000
DTSTAMP:20260423T122738
CREATED:20230124T210205Z
LAST-MODIFIED:20230124T210205Z
UID:10000278-1684861200-1684861200@www.excellentgodministries.com
SUMMARY:Prayer Room Service
DESCRIPTION:
URL:https://www.excellentgodministries.com/event/prayer-room-service/2023-05-23/
LOCATION:Excellent God Ministries\, Lucan Co k78 k248\, Dublin\, Ireland
ATTACH;FMTTYPE=image/jpeg:https://www.excellentgodministries.com/wp-content/uploads/2023/01/bible.jpg
END:VEVENT
BEGIN:VEVENT
DTSTART;TZID=Europe/Dublin:20230528T170000
DTEND;TZID=Europe/Dublin:20230528T183000
DTSTAMP:20260423T122738
CREATED:20230124T193720Z
LAST-MODIFIED:20230124T205817Z
UID:10000018-1685293200-1685298600@www.excellentgodministries.com
SUMMARY:Sunday Service
DESCRIPTION:Join Our Power Packed Sunday Services
URL:https://www.excellentgodministries.com/event/sunday-service/2023-05-28/
LOCATION:Excellent God Ministries\, Lucan Co k78 k248\, Dublin\, Ireland
ATTACH;FMTTYPE=image/jpeg:https://www.excellentgodministries.com/wp-content/uploads/2023/01/WhatsApp-Image-2023-01-24-at-8.18.32-PM.jpeg
END:VEVENT
BEGIN:VEVENT
DTSTART;TZID=Europe/Dublin:20230530T170000
DTEND;TZID=Europe/Dublin:20230530T170000
DTSTAMP:20260423T122738
CREATED:20230124T210205Z
LAST-MODIFIED:20230124T210205Z
UID:10000279-1685466000-1685466000@www.excellentgodministries.com
SUMMARY:Prayer Room Service
DESCRIPTION:
URL:https://www.excellentgodministries.com/event/prayer-room-service/2023-05-30/
LOCATION:Excellent God Ministries\, Lucan Co k78 k248\, Dublin\, Ireland
ATTACH;FMTTYPE=image/jpeg:https://www.excellentgodministries.com/wp-content/uploads/2023/01/bible.jpg
END:VEVENT
BEGIN:VEVENT
DTSTART;TZID=Europe/Dublin:20230604T170000
DTEND;TZID=Europe/Dublin:20230604T183000
DTSTAMP:20260423T122738
CREATED:20230124T193720Z
LAST-MODIFIED:20230124T205817Z
UID:10000019-1685898000-1685903400@www.excellentgodministries.com
SUMMARY:Sunday Service
DESCRIPTION:Join Our Power Packed Sunday Services
URL:https://www.excellentgodministries.com/event/sunday-service/2023-06-04/
LOCATION:Excellent God Ministries\, Lucan Co k78 k248\, Dublin\, Ireland
ATTACH;FMTTYPE=image/jpeg:https://www.excellentgodministries.com/wp-content/uploads/2023/01/WhatsApp-Image-2023-01-24-at-8.18.32-PM.jpeg
END:VEVENT
BEGIN:VEVENT
DTSTART;TZID=Europe/Dublin:20230606T170000
DTEND;TZID=Europe/Dublin:20230606T170000
DTSTAMP:20260423T122738
CREATED:20230124T210205Z
LAST-MODIFIED:20230124T210205Z
UID:10000280-1686070800-1686070800@www.excellentgodministries.com
SUMMARY:Prayer Room Service
DESCRIPTION:
URL:https://www.excellentgodministries.com/event/prayer-room-service/2023-06-06/
LOCATION:Excellent God Ministries\, Lucan Co k78 k248\, Dublin\, Ireland
ATTACH;FMTTYPE=image/jpeg:https://www.excellentgodministries.com/wp-content/uploads/2023/01/bible.jpg
END:VEVENT
BEGIN:VEVENT
DTSTART;TZID=Europe/Dublin:20230611T170000
DTEND;TZID=Europe/Dublin:20230611T183000
DTSTAMP:20260423T122738
CREATED:20230124T193720Z
LAST-MODIFIED:20230124T205817Z
UID:10000020-1686502800-1686508200@www.excellentgodministries.com
SUMMARY:Sunday Service
DESCRIPTION:Join Our Power Packed Sunday Services
URL:https://www.excellentgodministries.com/event/sunday-service/2023-06-11/
LOCATION:Excellent God Ministries\, Lucan Co k78 k248\, Dublin\, Ireland
ATTACH;FMTTYPE=image/jpeg:https://www.excellentgodministries.com/wp-content/uploads/2023/01/WhatsApp-Image-2023-01-24-at-8.18.32-PM.jpeg
END:VEVENT
BEGIN:VEVENT
DTSTART;TZID=Europe/Dublin:20230613T170000
DTEND;TZID=Europe/Dublin:20230613T170000
DTSTAMP:20260423T122738
CREATED:20230124T210205Z
LAST-MODIFIED:20230124T210205Z
UID:10000281-1686675600-1686675600@www.excellentgodministries.com
SUMMARY:Prayer Room Service
DESCRIPTION:
URL:https://www.excellentgodministries.com/event/prayer-room-service/2023-06-13/
LOCATION:Excellent God Ministries\, Lucan Co k78 k248\, Dublin\, Ireland
ATTACH;FMTTYPE=image/jpeg:https://www.excellentgodministries.com/wp-content/uploads/2023/01/bible.jpg
END:VEVENT
BEGIN:VEVENT
DTSTART;TZID=Europe/Dublin:20230618T170000
DTEND;TZID=Europe/Dublin:20230618T183000
DTSTAMP:20260423T122738
CREATED:20230124T193720Z
LAST-MODIFIED:20230124T205817Z
UID:10000021-1687107600-1687113000@www.excellentgodministries.com
SUMMARY:Sunday Service
DESCRIPTION:Join Our Power Packed Sunday Services
URL:https://www.excellentgodministries.com/event/sunday-service/2023-06-18/
LOCATION:Excellent God Ministries\, Lucan Co k78 k248\, Dublin\, Ireland
ATTACH;FMTTYPE=image/jpeg:https://www.excellentgodministries.com/wp-content/uploads/2023/01/WhatsApp-Image-2023-01-24-at-8.18.32-PM.jpeg
END:VEVENT
BEGIN:VEVENT
DTSTART;TZID=Europe/Dublin:20230620T170000
DTEND;TZID=Europe/Dublin:20230620T170000
DTSTAMP:20260423T122738
CREATED:20230124T210205Z
LAST-MODIFIED:20230124T210205Z
UID:10000282-1687280400-1687280400@www.excellentgodministries.com
SUMMARY:Prayer Room Service
DESCRIPTION:
URL:https://www.excellentgodministries.com/event/prayer-room-service/2023-06-20/
LOCATION:Excellent God Ministries\, Lucan Co k78 k248\, Dublin\, Ireland
ATTACH;FMTTYPE=image/jpeg:https://www.excellentgodministries.com/wp-content/uploads/2023/01/bible.jpg
END:VEVENT
END:VCALENDAR