BEGIN:VCALENDAR
VERSION:2.0
PRODID:-//EXCELLENT GOD MINISTRIES - ECPv6.0.7//NONSGML v1.0//EN
CALSCALE:GREGORIAN
METHOD:PUBLISH
X-WR-CALNAME:EXCELLENT GOD MINISTRIES
X-ORIGINAL-URL:https://www.excellentgodministries.com
X-WR-CALDESC:Events for EXCELLENT GOD MINISTRIES
REFRESH-INTERVAL;VALUE=DURATION:PT1H
X-Robots-Tag:noindex
X-PUBLISHED-TTL:PT1H
BEGIN:VTIMEZONE
TZID:Europe/Dublin
BEGIN:STANDARD
TZOFFSETFROM:+0000
TZOFFSETTO:+0100
TZNAME:IST
DTSTART:20240331T010000
END:STANDARD
BEGIN:DAYLIGHT
TZOFFSETFROM:+0100
TZOFFSETTO:+0000
TZNAME:GMT
DTSTART:20241027T010000
END:DAYLIGHT
END:VTIMEZONE
BEGIN:VEVENT
DTSTART;TZID=Europe/Dublin:20240616T170000
DTEND;TZID=Europe/Dublin:20240616T183000
DTSTAMP:20260424T214222
CREATED:20230124T193720Z
LAST-MODIFIED:20230124T205817Z
UID:10000073-1718557200-1718562600@www.excellentgodministries.com
SUMMARY:Sunday Service
DESCRIPTION:Join Our Power Packed Sunday Services
URL:https://www.excellentgodministries.com/event/sunday-service/2024-06-16/
LOCATION:Excellent God Ministries\, Lucan Co k78 k248\, Dublin\, Ireland
ATTACH;FMTTYPE=image/jpeg:https://www.excellentgodministries.com/wp-content/uploads/2023/01/WhatsApp-Image-2023-01-24-at-8.18.32-PM.jpeg
END:VEVENT
BEGIN:VEVENT
DTSTART;TZID=Europe/Dublin:20240618T170000
DTEND;TZID=Europe/Dublin:20240618T170000
DTSTAMP:20260424T214222
CREATED:20230124T210205Z
LAST-MODIFIED:20230124T210205Z
UID:10000334-1718730000-1718730000@www.excellentgodministries.com
SUMMARY:Prayer Room Service
DESCRIPTION:
URL:https://www.excellentgodministries.com/event/prayer-room-service/2024-06-18/
LOCATION:Excellent God Ministries\, Lucan Co k78 k248\, Dublin\, Ireland
ATTACH;FMTTYPE=image/jpeg:https://www.excellentgodministries.com/wp-content/uploads/2023/01/bible.jpg
END:VEVENT
BEGIN:VEVENT
DTSTART;TZID=Europe/Dublin:20240623T170000
DTEND;TZID=Europe/Dublin:20240623T183000
DTSTAMP:20260424T214222
CREATED:20230124T193720Z
LAST-MODIFIED:20230124T205817Z
UID:10000074-1719162000-1719167400@www.excellentgodministries.com
SUMMARY:Sunday Service
DESCRIPTION:Join Our Power Packed Sunday Services
URL:https://www.excellentgodministries.com/event/sunday-service/2024-06-23/
LOCATION:Excellent God Ministries\, Lucan Co k78 k248\, Dublin\, Ireland
ATTACH;FMTTYPE=image/jpeg:https://www.excellentgodministries.com/wp-content/uploads/2023/01/WhatsApp-Image-2023-01-24-at-8.18.32-PM.jpeg
END:VEVENT
BEGIN:VEVENT
DTSTART;TZID=Europe/Dublin:20240625T170000
DTEND;TZID=Europe/Dublin:20240625T170000
DTSTAMP:20260424T214222
CREATED:20230124T210205Z
LAST-MODIFIED:20230124T210205Z
UID:10000335-1719334800-1719334800@www.excellentgodministries.com
SUMMARY:Prayer Room Service
DESCRIPTION:
URL:https://www.excellentgodministries.com/event/prayer-room-service/2024-06-25/
LOCATION:Excellent God Ministries\, Lucan Co k78 k248\, Dublin\, Ireland
ATTACH;FMTTYPE=image/jpeg:https://www.excellentgodministries.com/wp-content/uploads/2023/01/bible.jpg
END:VEVENT
BEGIN:VEVENT
DTSTART;TZID=Europe/Dublin:20240630T170000
DTEND;TZID=Europe/Dublin:20240630T183000
DTSTAMP:20260424T214222
CREATED:20230124T193720Z
LAST-MODIFIED:20230124T205817Z
UID:10000075-1719766800-1719772200@www.excellentgodministries.com
SUMMARY:Sunday Service
DESCRIPTION:Join Our Power Packed Sunday Services
URL:https://www.excellentgodministries.com/event/sunday-service/2024-06-30/
LOCATION:Excellent God Ministries\, Lucan Co k78 k248\, Dublin\, Ireland
ATTACH;FMTTYPE=image/jpeg:https://www.excellentgodministries.com/wp-content/uploads/2023/01/WhatsApp-Image-2023-01-24-at-8.18.32-PM.jpeg
END:VEVENT
BEGIN:VEVENT
DTSTART;TZID=Europe/Dublin:20240702T170000
DTEND;TZID=Europe/Dublin:20240702T170000
DTSTAMP:20260424T214222
CREATED:20230124T210205Z
LAST-MODIFIED:20230124T210205Z
UID:10000336-1719939600-1719939600@www.excellentgodministries.com
SUMMARY:Prayer Room Service
DESCRIPTION:
URL:https://www.excellentgodministries.com/event/prayer-room-service/2024-07-02/
LOCATION:Excellent God Ministries\, Lucan Co k78 k248\, Dublin\, Ireland
ATTACH;FMTTYPE=image/jpeg:https://www.excellentgodministries.com/wp-content/uploads/2023/01/bible.jpg
END:VEVENT
BEGIN:VEVENT
DTSTART;TZID=Europe/Dublin:20240707T170000
DTEND;TZID=Europe/Dublin:20240707T183000
DTSTAMP:20260424T214222
CREATED:20230124T193720Z
LAST-MODIFIED:20230124T205817Z
UID:10000076-1720371600-1720377000@www.excellentgodministries.com
SUMMARY:Sunday Service
DESCRIPTION:Join Our Power Packed Sunday Services
URL:https://www.excellentgodministries.com/event/sunday-service/2024-07-07/
LOCATION:Excellent God Ministries\, Lucan Co k78 k248\, Dublin\, Ireland
ATTACH;FMTTYPE=image/jpeg:https://www.excellentgodministries.com/wp-content/uploads/2023/01/WhatsApp-Image-2023-01-24-at-8.18.32-PM.jpeg
END:VEVENT
BEGIN:VEVENT
DTSTART;TZID=Europe/Dublin:20240709T170000
DTEND;TZID=Europe/Dublin:20240709T170000
DTSTAMP:20260424T214222
CREATED:20230124T210205Z
LAST-MODIFIED:20230124T210205Z
UID:10000337-1720544400-1720544400@www.excellentgodministries.com
SUMMARY:Prayer Room Service
DESCRIPTION:
URL:https://www.excellentgodministries.com/event/prayer-room-service/2024-07-09/
LOCATION:Excellent God Ministries\, Lucan Co k78 k248\, Dublin\, Ireland
ATTACH;FMTTYPE=image/jpeg:https://www.excellentgodministries.com/wp-content/uploads/2023/01/bible.jpg
END:VEVENT
BEGIN:VEVENT
DTSTART;TZID=Europe/Dublin:20240714T170000
DTEND;TZID=Europe/Dublin:20240714T183000
DTSTAMP:20260424T214222
CREATED:20230124T193720Z
LAST-MODIFIED:20230124T205817Z
UID:10000077-1720976400-1720981800@www.excellentgodministries.com
SUMMARY:Sunday Service
DESCRIPTION:Join Our Power Packed Sunday Services
URL:https://www.excellentgodministries.com/event/sunday-service/2024-07-14/
LOCATION:Excellent God Ministries\, Lucan Co k78 k248\, Dublin\, Ireland
ATTACH;FMTTYPE=image/jpeg:https://www.excellentgodministries.com/wp-content/uploads/2023/01/WhatsApp-Image-2023-01-24-at-8.18.32-PM.jpeg
END:VEVENT
BEGIN:VEVENT
DTSTART;TZID=Europe/Dublin:20240716T170000
DTEND;TZID=Europe/Dublin:20240716T170000
DTSTAMP:20260424T214222
CREATED:20230124T210205Z
LAST-MODIFIED:20230124T210205Z
UID:10000338-1721149200-1721149200@www.excellentgodministries.com
SUMMARY:Prayer Room Service
DESCRIPTION:
URL:https://www.excellentgodministries.com/event/prayer-room-service/2024-07-16/
LOCATION:Excellent God Ministries\, Lucan Co k78 k248\, Dublin\, Ireland
ATTACH;FMTTYPE=image/jpeg:https://www.excellentgodministries.com/wp-content/uploads/2023/01/bible.jpg
END:VEVENT
BEGIN:VEVENT
DTSTART;TZID=Europe/Dublin:20240721T170000
DTEND;TZID=Europe/Dublin:20240721T183000
DTSTAMP:20260424T214222
CREATED:20230124T193720Z
LAST-MODIFIED:20230124T205817Z
UID:10000078-1721581200-1721586600@www.excellentgodministries.com
SUMMARY:Sunday Service
DESCRIPTION:Join Our Power Packed Sunday Services
URL:https://www.excellentgodministries.com/event/sunday-service/2024-07-21/
LOCATION:Excellent God Ministries\, Lucan Co k78 k248\, Dublin\, Ireland
ATTACH;FMTTYPE=image/jpeg:https://www.excellentgodministries.com/wp-content/uploads/2023/01/WhatsApp-Image-2023-01-24-at-8.18.32-PM.jpeg
END:VEVENT
BEGIN:VEVENT
DTSTART;TZID=Europe/Dublin:20240723T170000
DTEND;TZID=Europe/Dublin:20240723T170000
DTSTAMP:20260424T214222
CREATED:20230124T210205Z
LAST-MODIFIED:20230124T210205Z
UID:10000339-1721754000-1721754000@www.excellentgodministries.com
SUMMARY:Prayer Room Service
DESCRIPTION:
URL:https://www.excellentgodministries.com/event/prayer-room-service/2024-07-23/
LOCATION:Excellent God Ministries\, Lucan Co k78 k248\, Dublin\, Ireland
ATTACH;FMTTYPE=image/jpeg:https://www.excellentgodministries.com/wp-content/uploads/2023/01/bible.jpg
END:VEVENT
BEGIN:VEVENT
DTSTART;TZID=Europe/Dublin:20240728T170000
DTEND;TZID=Europe/Dublin:20240728T183000
DTSTAMP:20260424T214222
CREATED:20230124T193720Z
LAST-MODIFIED:20230124T205817Z
UID:10000079-1722186000-1722191400@www.excellentgodministries.com
SUMMARY:Sunday Service
DESCRIPTION:Join Our Power Packed Sunday Services
URL:https://www.excellentgodministries.com/event/sunday-service/2024-07-28/
LOCATION:Excellent God Ministries\, Lucan Co k78 k248\, Dublin\, Ireland
ATTACH;FMTTYPE=image/jpeg:https://www.excellentgodministries.com/wp-content/uploads/2023/01/WhatsApp-Image-2023-01-24-at-8.18.32-PM.jpeg
END:VEVENT
BEGIN:VEVENT
DTSTART;TZID=Europe/Dublin:20240730T170000
DTEND;TZID=Europe/Dublin:20240730T170000
DTSTAMP:20260424T214222
CREATED:20230124T210205Z
LAST-MODIFIED:20230124T210205Z
UID:10000340-1722358800-1722358800@www.excellentgodministries.com
SUMMARY:Prayer Room Service
DESCRIPTION:
URL:https://www.excellentgodministries.com/event/prayer-room-service/2024-07-30/
LOCATION:Excellent God Ministries\, Lucan Co k78 k248\, Dublin\, Ireland
ATTACH;FMTTYPE=image/jpeg:https://www.excellentgodministries.com/wp-content/uploads/2023/01/bible.jpg
END:VEVENT
BEGIN:VEVENT
DTSTART;TZID=Europe/Dublin:20240804T170000
DTEND;TZID=Europe/Dublin:20240804T183000
DTSTAMP:20260424T214222
CREATED:20230124T193720Z
LAST-MODIFIED:20230124T205817Z
UID:10000080-1722790800-1722796200@www.excellentgodministries.com
SUMMARY:Sunday Service
DESCRIPTION:Join Our Power Packed Sunday Services
URL:https://www.excellentgodministries.com/event/sunday-service/2024-08-04/
LOCATION:Excellent God Ministries\, Lucan Co k78 k248\, Dublin\, Ireland
ATTACH;FMTTYPE=image/jpeg:https://www.excellentgodministries.com/wp-content/uploads/2023/01/WhatsApp-Image-2023-01-24-at-8.18.32-PM.jpeg
END:VEVENT
BEGIN:VEVENT
DTSTART;TZID=Europe/Dublin:20240806T170000
DTEND;TZID=Europe/Dublin:20240806T170000
DTSTAMP:20260424T214222
CREATED:20230124T210205Z
LAST-MODIFIED:20230124T210205Z
UID:10000341-1722963600-1722963600@www.excellentgodministries.com
SUMMARY:Prayer Room Service
DESCRIPTION:
URL:https://www.excellentgodministries.com/event/prayer-room-service/2024-08-06/
LOCATION:Excellent God Ministries\, Lucan Co k78 k248\, Dublin\, Ireland
ATTACH;FMTTYPE=image/jpeg:https://www.excellentgodministries.com/wp-content/uploads/2023/01/bible.jpg
END:VEVENT
BEGIN:VEVENT
DTSTART;TZID=Europe/Dublin:20240811T170000
DTEND;TZID=Europe/Dublin:20240811T183000
DTSTAMP:20260424T214222
CREATED:20230124T193720Z
LAST-MODIFIED:20230124T205817Z
UID:10000081-1723395600-1723401000@www.excellentgodministries.com
SUMMARY:Sunday Service
DESCRIPTION:Join Our Power Packed Sunday Services
URL:https://www.excellentgodministries.com/event/sunday-service/2024-08-11/
LOCATION:Excellent God Ministries\, Lucan Co k78 k248\, Dublin\, Ireland
ATTACH;FMTTYPE=image/jpeg:https://www.excellentgodministries.com/wp-content/uploads/2023/01/WhatsApp-Image-2023-01-24-at-8.18.32-PM.jpeg
END:VEVENT
BEGIN:VEVENT
DTSTART;TZID=Europe/Dublin:20240813T170000
DTEND;TZID=Europe/Dublin:20240813T170000
DTSTAMP:20260424T214222
CREATED:20230124T210205Z
LAST-MODIFIED:20230124T210205Z
UID:10000342-1723568400-1723568400@www.excellentgodministries.com
SUMMARY:Prayer Room Service
DESCRIPTION:
URL:https://www.excellentgodministries.com/event/prayer-room-service/2024-08-13/
LOCATION:Excellent God Ministries\, Lucan Co k78 k248\, Dublin\, Ireland
ATTACH;FMTTYPE=image/jpeg:https://www.excellentgodministries.com/wp-content/uploads/2023/01/bible.jpg
END:VEVENT
BEGIN:VEVENT
DTSTART;TZID=Europe/Dublin:20240818T170000
DTEND;TZID=Europe/Dublin:20240818T183000
DTSTAMP:20260424T214222
CREATED:20230124T193720Z
LAST-MODIFIED:20230124T205817Z
UID:10000082-1724000400-1724005800@www.excellentgodministries.com
SUMMARY:Sunday Service
DESCRIPTION:Join Our Power Packed Sunday Services
URL:https://www.excellentgodministries.com/event/sunday-service/2024-08-18/
LOCATION:Excellent God Ministries\, Lucan Co k78 k248\, Dublin\, Ireland
ATTACH;FMTTYPE=image/jpeg:https://www.excellentgodministries.com/wp-content/uploads/2023/01/WhatsApp-Image-2023-01-24-at-8.18.32-PM.jpeg
END:VEVENT
BEGIN:VEVENT
DTSTART;TZID=Europe/Dublin:20240820T170000
DTEND;TZID=Europe/Dublin:20240820T170000
DTSTAMP:20260424T214222
CREATED:20230124T210205Z
LAST-MODIFIED:20230124T210205Z
UID:10000343-1724173200-1724173200@www.excellentgodministries.com
SUMMARY:Prayer Room Service
DESCRIPTION:
URL:https://www.excellentgodministries.com/event/prayer-room-service/2024-08-20/
LOCATION:Excellent God Ministries\, Lucan Co k78 k248\, Dublin\, Ireland
ATTACH;FMTTYPE=image/jpeg:https://www.excellentgodministries.com/wp-content/uploads/2023/01/bible.jpg
END:VEVENT
BEGIN:VEVENT
DTSTART;TZID=Europe/Dublin:20240825T170000
DTEND;TZID=Europe/Dublin:20240825T183000
DTSTAMP:20260424T214222
CREATED:20230124T193720Z
LAST-MODIFIED:20230124T205817Z
UID:10000083-1724605200-1724610600@www.excellentgodministries.com
SUMMARY:Sunday Service
DESCRIPTION:Join Our Power Packed Sunday Services
URL:https://www.excellentgodministries.com/event/sunday-service/2024-08-25/
LOCATION:Excellent God Ministries\, Lucan Co k78 k248\, Dublin\, Ireland
ATTACH;FMTTYPE=image/jpeg:https://www.excellentgodministries.com/wp-content/uploads/2023/01/WhatsApp-Image-2023-01-24-at-8.18.32-PM.jpeg
END:VEVENT
BEGIN:VEVENT
DTSTART;TZID=Europe/Dublin:20240827T170000
DTEND;TZID=Europe/Dublin:20240827T170000
DTSTAMP:20260424T214222
CREATED:20230124T210205Z
LAST-MODIFIED:20230124T210205Z
UID:10000344-1724778000-1724778000@www.excellentgodministries.com
SUMMARY:Prayer Room Service
DESCRIPTION:
URL:https://www.excellentgodministries.com/event/prayer-room-service/2024-08-27/
LOCATION:Excellent God Ministries\, Lucan Co k78 k248\, Dublin\, Ireland
ATTACH;FMTTYPE=image/jpeg:https://www.excellentgodministries.com/wp-content/uploads/2023/01/bible.jpg
END:VEVENT
BEGIN:VEVENT
DTSTART;TZID=Europe/Dublin:20240901T170000
DTEND;TZID=Europe/Dublin:20240901T183000
DTSTAMP:20260424T214222
CREATED:20230124T193720Z
LAST-MODIFIED:20230124T205817Z
UID:10000084-1725210000-1725215400@www.excellentgodministries.com
SUMMARY:Sunday Service
DESCRIPTION:Join Our Power Packed Sunday Services
URL:https://www.excellentgodministries.com/event/sunday-service/2024-09-01/
LOCATION:Excellent God Ministries\, Lucan Co k78 k248\, Dublin\, Ireland
ATTACH;FMTTYPE=image/jpeg:https://www.excellentgodministries.com/wp-content/uploads/2023/01/WhatsApp-Image-2023-01-24-at-8.18.32-PM.jpeg
END:VEVENT
BEGIN:VEVENT
DTSTART;TZID=Europe/Dublin:20240903T170000
DTEND;TZID=Europe/Dublin:20240903T170000
DTSTAMP:20260424T214222
CREATED:20230124T210205Z
LAST-MODIFIED:20230124T210205Z
UID:10000345-1725382800-1725382800@www.excellentgodministries.com
SUMMARY:Prayer Room Service
DESCRIPTION:
URL:https://www.excellentgodministries.com/event/prayer-room-service/2024-09-03/
LOCATION:Excellent God Ministries\, Lucan Co k78 k248\, Dublin\, Ireland
ATTACH;FMTTYPE=image/jpeg:https://www.excellentgodministries.com/wp-content/uploads/2023/01/bible.jpg
END:VEVENT
BEGIN:VEVENT
DTSTART;TZID=Europe/Dublin:20240908T170000
DTEND;TZID=Europe/Dublin:20240908T183000
DTSTAMP:20260424T214222
CREATED:20230124T193720Z
LAST-MODIFIED:20230124T205817Z
UID:10000085-1725814800-1725820200@www.excellentgodministries.com
SUMMARY:Sunday Service
DESCRIPTION:Join Our Power Packed Sunday Services
URL:https://www.excellentgodministries.com/event/sunday-service/2024-09-08/
LOCATION:Excellent God Ministries\, Lucan Co k78 k248\, Dublin\, Ireland
ATTACH;FMTTYPE=image/jpeg:https://www.excellentgodministries.com/wp-content/uploads/2023/01/WhatsApp-Image-2023-01-24-at-8.18.32-PM.jpeg
END:VEVENT
BEGIN:VEVENT
DTSTART;TZID=Europe/Dublin:20240910T170000
DTEND;TZID=Europe/Dublin:20240910T170000
DTSTAMP:20260424T214222
CREATED:20230124T210205Z
LAST-MODIFIED:20230124T210205Z
UID:10000346-1725987600-1725987600@www.excellentgodministries.com
SUMMARY:Prayer Room Service
DESCRIPTION:
URL:https://www.excellentgodministries.com/event/prayer-room-service/2024-09-10/
LOCATION:Excellent God Ministries\, Lucan Co k78 k248\, Dublin\, Ireland
ATTACH;FMTTYPE=image/jpeg:https://www.excellentgodministries.com/wp-content/uploads/2023/01/bible.jpg
END:VEVENT
BEGIN:VEVENT
DTSTART;TZID=Europe/Dublin:20240915T170000
DTEND;TZID=Europe/Dublin:20240915T183000
DTSTAMP:20260424T214222
CREATED:20230124T193720Z
LAST-MODIFIED:20230124T205817Z
UID:10000086-1726419600-1726425000@www.excellentgodministries.com
SUMMARY:Sunday Service
DESCRIPTION:Join Our Power Packed Sunday Services
URL:https://www.excellentgodministries.com/event/sunday-service/2024-09-15/
LOCATION:Excellent God Ministries\, Lucan Co k78 k248\, Dublin\, Ireland
ATTACH;FMTTYPE=image/jpeg:https://www.excellentgodministries.com/wp-content/uploads/2023/01/WhatsApp-Image-2023-01-24-at-8.18.32-PM.jpeg
END:VEVENT
BEGIN:VEVENT
DTSTART;TZID=Europe/Dublin:20240917T170000
DTEND;TZID=Europe/Dublin:20240917T170000
DTSTAMP:20260424T214222
CREATED:20230124T210205Z
LAST-MODIFIED:20230124T210205Z
UID:10000347-1726592400-1726592400@www.excellentgodministries.com
SUMMARY:Prayer Room Service
DESCRIPTION:
URL:https://www.excellentgodministries.com/event/prayer-room-service/2024-09-17/
LOCATION:Excellent God Ministries\, Lucan Co k78 k248\, Dublin\, Ireland
ATTACH;FMTTYPE=image/jpeg:https://www.excellentgodministries.com/wp-content/uploads/2023/01/bible.jpg
END:VEVENT
BEGIN:VEVENT
DTSTART;TZID=Europe/Dublin:20240922T170000
DTEND;TZID=Europe/Dublin:20240922T183000
DTSTAMP:20260424T214222
CREATED:20230124T193720Z
LAST-MODIFIED:20230124T205817Z
UID:10000087-1727024400-1727029800@www.excellentgodministries.com
SUMMARY:Sunday Service
DESCRIPTION:Join Our Power Packed Sunday Services
URL:https://www.excellentgodministries.com/event/sunday-service/2024-09-22/
LOCATION:Excellent God Ministries\, Lucan Co k78 k248\, Dublin\, Ireland
ATTACH;FMTTYPE=image/jpeg:https://www.excellentgodministries.com/wp-content/uploads/2023/01/WhatsApp-Image-2023-01-24-at-8.18.32-PM.jpeg
END:VEVENT
BEGIN:VEVENT
DTSTART;TZID=Europe/Dublin:20240924T170000
DTEND;TZID=Europe/Dublin:20240924T170000
DTSTAMP:20260424T214222
CREATED:20230124T210205Z
LAST-MODIFIED:20230124T210205Z
UID:10000348-1727197200-1727197200@www.excellentgodministries.com
SUMMARY:Prayer Room Service
DESCRIPTION:
URL:https://www.excellentgodministries.com/event/prayer-room-service/2024-09-24/
LOCATION:Excellent God Ministries\, Lucan Co k78 k248\, Dublin\, Ireland
ATTACH;FMTTYPE=image/jpeg:https://www.excellentgodministries.com/wp-content/uploads/2023/01/bible.jpg
END:VEVENT
END:VCALENDAR