BEGIN:VCALENDAR
VERSION:2.0
PRODID:-//EXCELLENT GOD MINISTRIES - ECPv6.0.7//NONSGML v1.0//EN
CALSCALE:GREGORIAN
METHOD:PUBLISH
X-WR-CALNAME:EXCELLENT GOD MINISTRIES
X-ORIGINAL-URL:https://www.excellentgodministries.com
X-WR-CALDESC:Events for EXCELLENT GOD MINISTRIES
REFRESH-INTERVAL;VALUE=DURATION:PT1H
X-Robots-Tag:noindex
X-PUBLISHED-TTL:PT1H
BEGIN:VTIMEZONE
TZID:Europe/Dublin
BEGIN:STANDARD
TZOFFSETFROM:+0000
TZOFFSETTO:+0100
TZNAME:IST
DTSTART:20240331T010000
END:STANDARD
BEGIN:DAYLIGHT
TZOFFSETFROM:+0100
TZOFFSETTO:+0000
TZNAME:GMT
DTSTART:20241027T010000
END:DAYLIGHT
END:VTIMEZONE
BEGIN:VEVENT
DTSTART;TZID=Europe/Dublin:20240324T170000
DTEND;TZID=Europe/Dublin:20240324T183000
DTSTAMP:20260424T185004
CREATED:20230124T193720Z
LAST-MODIFIED:20230124T205817Z
UID:10000061-1711299600-1711305000@www.excellentgodministries.com
SUMMARY:Sunday Service
DESCRIPTION:Join Our Power Packed Sunday Services
URL:https://www.excellentgodministries.com/event/sunday-service/2024-03-24/
LOCATION:Excellent God Ministries\, Lucan Co k78 k248\, Dublin\, Ireland
ATTACH;FMTTYPE=image/jpeg:https://www.excellentgodministries.com/wp-content/uploads/2023/01/WhatsApp-Image-2023-01-24-at-8.18.32-PM.jpeg
END:VEVENT
BEGIN:VEVENT
DTSTART;TZID=Europe/Dublin:20240326T170000
DTEND;TZID=Europe/Dublin:20240326T170000
DTSTAMP:20260424T185004
CREATED:20230124T210205Z
LAST-MODIFIED:20230124T210205Z
UID:10000322-1711472400-1711472400@www.excellentgodministries.com
SUMMARY:Prayer Room Service
DESCRIPTION:
URL:https://www.excellentgodministries.com/event/prayer-room-service/2024-03-26/
LOCATION:Excellent God Ministries\, Lucan Co k78 k248\, Dublin\, Ireland
ATTACH;FMTTYPE=image/jpeg:https://www.excellentgodministries.com/wp-content/uploads/2023/01/bible.jpg
END:VEVENT
BEGIN:VEVENT
DTSTART;TZID=Europe/Dublin:20240331T170000
DTEND;TZID=Europe/Dublin:20240331T183000
DTSTAMP:20260424T185004
CREATED:20230124T193720Z
LAST-MODIFIED:20230124T205817Z
UID:10000062-1711904400-1711909800@www.excellentgodministries.com
SUMMARY:Sunday Service
DESCRIPTION:Join Our Power Packed Sunday Services
URL:https://www.excellentgodministries.com/event/sunday-service/2024-03-31/
LOCATION:Excellent God Ministries\, Lucan Co k78 k248\, Dublin\, Ireland
ATTACH;FMTTYPE=image/jpeg:https://www.excellentgodministries.com/wp-content/uploads/2023/01/WhatsApp-Image-2023-01-24-at-8.18.32-PM.jpeg
END:VEVENT
BEGIN:VEVENT
DTSTART;TZID=Europe/Dublin:20240402T170000
DTEND;TZID=Europe/Dublin:20240402T170000
DTSTAMP:20260424T185004
CREATED:20230124T210205Z
LAST-MODIFIED:20230124T210205Z
UID:10000323-1712077200-1712077200@www.excellentgodministries.com
SUMMARY:Prayer Room Service
DESCRIPTION:
URL:https://www.excellentgodministries.com/event/prayer-room-service/2024-04-02/
LOCATION:Excellent God Ministries\, Lucan Co k78 k248\, Dublin\, Ireland
ATTACH;FMTTYPE=image/jpeg:https://www.excellentgodministries.com/wp-content/uploads/2023/01/bible.jpg
END:VEVENT
BEGIN:VEVENT
DTSTART;TZID=Europe/Dublin:20240407T170000
DTEND;TZID=Europe/Dublin:20240407T183000
DTSTAMP:20260424T185004
CREATED:20230124T193720Z
LAST-MODIFIED:20230124T205817Z
UID:10000063-1712509200-1712514600@www.excellentgodministries.com
SUMMARY:Sunday Service
DESCRIPTION:Join Our Power Packed Sunday Services
URL:https://www.excellentgodministries.com/event/sunday-service/2024-04-07/
LOCATION:Excellent God Ministries\, Lucan Co k78 k248\, Dublin\, Ireland
ATTACH;FMTTYPE=image/jpeg:https://www.excellentgodministries.com/wp-content/uploads/2023/01/WhatsApp-Image-2023-01-24-at-8.18.32-PM.jpeg
END:VEVENT
BEGIN:VEVENT
DTSTART;TZID=Europe/Dublin:20240409T170000
DTEND;TZID=Europe/Dublin:20240409T170000
DTSTAMP:20260424T185004
CREATED:20230124T210205Z
LAST-MODIFIED:20230124T210205Z
UID:10000324-1712682000-1712682000@www.excellentgodministries.com
SUMMARY:Prayer Room Service
DESCRIPTION:
URL:https://www.excellentgodministries.com/event/prayer-room-service/2024-04-09/
LOCATION:Excellent God Ministries\, Lucan Co k78 k248\, Dublin\, Ireland
ATTACH;FMTTYPE=image/jpeg:https://www.excellentgodministries.com/wp-content/uploads/2023/01/bible.jpg
END:VEVENT
BEGIN:VEVENT
DTSTART;TZID=Europe/Dublin:20240414T170000
DTEND;TZID=Europe/Dublin:20240414T183000
DTSTAMP:20260424T185004
CREATED:20230124T193720Z
LAST-MODIFIED:20230124T205817Z
UID:10000064-1713114000-1713119400@www.excellentgodministries.com
SUMMARY:Sunday Service
DESCRIPTION:Join Our Power Packed Sunday Services
URL:https://www.excellentgodministries.com/event/sunday-service/2024-04-14/
LOCATION:Excellent God Ministries\, Lucan Co k78 k248\, Dublin\, Ireland
ATTACH;FMTTYPE=image/jpeg:https://www.excellentgodministries.com/wp-content/uploads/2023/01/WhatsApp-Image-2023-01-24-at-8.18.32-PM.jpeg
END:VEVENT
BEGIN:VEVENT
DTSTART;TZID=Europe/Dublin:20240416T170000
DTEND;TZID=Europe/Dublin:20240416T170000
DTSTAMP:20260424T185004
CREATED:20230124T210205Z
LAST-MODIFIED:20230124T210205Z
UID:10000325-1713286800-1713286800@www.excellentgodministries.com
SUMMARY:Prayer Room Service
DESCRIPTION:
URL:https://www.excellentgodministries.com/event/prayer-room-service/2024-04-16/
LOCATION:Excellent God Ministries\, Lucan Co k78 k248\, Dublin\, Ireland
ATTACH;FMTTYPE=image/jpeg:https://www.excellentgodministries.com/wp-content/uploads/2023/01/bible.jpg
END:VEVENT
BEGIN:VEVENT
DTSTART;TZID=Europe/Dublin:20240421T170000
DTEND;TZID=Europe/Dublin:20240421T183000
DTSTAMP:20260424T185004
CREATED:20230124T193720Z
LAST-MODIFIED:20230124T205817Z
UID:10000065-1713718800-1713724200@www.excellentgodministries.com
SUMMARY:Sunday Service
DESCRIPTION:Join Our Power Packed Sunday Services
URL:https://www.excellentgodministries.com/event/sunday-service/2024-04-21/
LOCATION:Excellent God Ministries\, Lucan Co k78 k248\, Dublin\, Ireland
ATTACH;FMTTYPE=image/jpeg:https://www.excellentgodministries.com/wp-content/uploads/2023/01/WhatsApp-Image-2023-01-24-at-8.18.32-PM.jpeg
END:VEVENT
BEGIN:VEVENT
DTSTART;TZID=Europe/Dublin:20240423T170000
DTEND;TZID=Europe/Dublin:20240423T170000
DTSTAMP:20260424T185004
CREATED:20230124T210205Z
LAST-MODIFIED:20230124T210205Z
UID:10000326-1713891600-1713891600@www.excellentgodministries.com
SUMMARY:Prayer Room Service
DESCRIPTION:
URL:https://www.excellentgodministries.com/event/prayer-room-service/2024-04-23/
LOCATION:Excellent God Ministries\, Lucan Co k78 k248\, Dublin\, Ireland
ATTACH;FMTTYPE=image/jpeg:https://www.excellentgodministries.com/wp-content/uploads/2023/01/bible.jpg
END:VEVENT
BEGIN:VEVENT
DTSTART;TZID=Europe/Dublin:20240428T170000
DTEND;TZID=Europe/Dublin:20240428T183000
DTSTAMP:20260424T185004
CREATED:20230124T193720Z
LAST-MODIFIED:20230124T205817Z
UID:10000066-1714323600-1714329000@www.excellentgodministries.com
SUMMARY:Sunday Service
DESCRIPTION:Join Our Power Packed Sunday Services
URL:https://www.excellentgodministries.com/event/sunday-service/2024-04-28/
LOCATION:Excellent God Ministries\, Lucan Co k78 k248\, Dublin\, Ireland
ATTACH;FMTTYPE=image/jpeg:https://www.excellentgodministries.com/wp-content/uploads/2023/01/WhatsApp-Image-2023-01-24-at-8.18.32-PM.jpeg
END:VEVENT
BEGIN:VEVENT
DTSTART;TZID=Europe/Dublin:20240430T170000
DTEND;TZID=Europe/Dublin:20240430T170000
DTSTAMP:20260424T185004
CREATED:20230124T210205Z
LAST-MODIFIED:20230124T210205Z
UID:10000327-1714496400-1714496400@www.excellentgodministries.com
SUMMARY:Prayer Room Service
DESCRIPTION:
URL:https://www.excellentgodministries.com/event/prayer-room-service/2024-04-30/
LOCATION:Excellent God Ministries\, Lucan Co k78 k248\, Dublin\, Ireland
ATTACH;FMTTYPE=image/jpeg:https://www.excellentgodministries.com/wp-content/uploads/2023/01/bible.jpg
END:VEVENT
BEGIN:VEVENT
DTSTART;TZID=Europe/Dublin:20240505T170000
DTEND;TZID=Europe/Dublin:20240505T183000
DTSTAMP:20260424T185004
CREATED:20230124T193720Z
LAST-MODIFIED:20230124T205817Z
UID:10000067-1714928400-1714933800@www.excellentgodministries.com
SUMMARY:Sunday Service
DESCRIPTION:Join Our Power Packed Sunday Services
URL:https://www.excellentgodministries.com/event/sunday-service/2024-05-05/
LOCATION:Excellent God Ministries\, Lucan Co k78 k248\, Dublin\, Ireland
ATTACH;FMTTYPE=image/jpeg:https://www.excellentgodministries.com/wp-content/uploads/2023/01/WhatsApp-Image-2023-01-24-at-8.18.32-PM.jpeg
END:VEVENT
BEGIN:VEVENT
DTSTART;TZID=Europe/Dublin:20240507T170000
DTEND;TZID=Europe/Dublin:20240507T170000
DTSTAMP:20260424T185004
CREATED:20230124T210205Z
LAST-MODIFIED:20230124T210205Z
UID:10000328-1715101200-1715101200@www.excellentgodministries.com
SUMMARY:Prayer Room Service
DESCRIPTION:
URL:https://www.excellentgodministries.com/event/prayer-room-service/2024-05-07/
LOCATION:Excellent God Ministries\, Lucan Co k78 k248\, Dublin\, Ireland
ATTACH;FMTTYPE=image/jpeg:https://www.excellentgodministries.com/wp-content/uploads/2023/01/bible.jpg
END:VEVENT
BEGIN:VEVENT
DTSTART;TZID=Europe/Dublin:20240512T170000
DTEND;TZID=Europe/Dublin:20240512T183000
DTSTAMP:20260424T185004
CREATED:20230124T193720Z
LAST-MODIFIED:20230124T205817Z
UID:10000068-1715533200-1715538600@www.excellentgodministries.com
SUMMARY:Sunday Service
DESCRIPTION:Join Our Power Packed Sunday Services
URL:https://www.excellentgodministries.com/event/sunday-service/2024-05-12/
LOCATION:Excellent God Ministries\, Lucan Co k78 k248\, Dublin\, Ireland
ATTACH;FMTTYPE=image/jpeg:https://www.excellentgodministries.com/wp-content/uploads/2023/01/WhatsApp-Image-2023-01-24-at-8.18.32-PM.jpeg
END:VEVENT
BEGIN:VEVENT
DTSTART;TZID=Europe/Dublin:20240514T170000
DTEND;TZID=Europe/Dublin:20240514T170000
DTSTAMP:20260424T185004
CREATED:20230124T210205Z
LAST-MODIFIED:20230124T210205Z
UID:10000329-1715706000-1715706000@www.excellentgodministries.com
SUMMARY:Prayer Room Service
DESCRIPTION:
URL:https://www.excellentgodministries.com/event/prayer-room-service/2024-05-14/
LOCATION:Excellent God Ministries\, Lucan Co k78 k248\, Dublin\, Ireland
ATTACH;FMTTYPE=image/jpeg:https://www.excellentgodministries.com/wp-content/uploads/2023/01/bible.jpg
END:VEVENT
BEGIN:VEVENT
DTSTART;TZID=Europe/Dublin:20240519T170000
DTEND;TZID=Europe/Dublin:20240519T183000
DTSTAMP:20260424T185004
CREATED:20230124T193720Z
LAST-MODIFIED:20230124T205817Z
UID:10000069-1716138000-1716143400@www.excellentgodministries.com
SUMMARY:Sunday Service
DESCRIPTION:Join Our Power Packed Sunday Services
URL:https://www.excellentgodministries.com/event/sunday-service/2024-05-19/
LOCATION:Excellent God Ministries\, Lucan Co k78 k248\, Dublin\, Ireland
ATTACH;FMTTYPE=image/jpeg:https://www.excellentgodministries.com/wp-content/uploads/2023/01/WhatsApp-Image-2023-01-24-at-8.18.32-PM.jpeg
END:VEVENT
BEGIN:VEVENT
DTSTART;TZID=Europe/Dublin:20240521T170000
DTEND;TZID=Europe/Dublin:20240521T170000
DTSTAMP:20260424T185004
CREATED:20230124T210205Z
LAST-MODIFIED:20230124T210205Z
UID:10000330-1716310800-1716310800@www.excellentgodministries.com
SUMMARY:Prayer Room Service
DESCRIPTION:
URL:https://www.excellentgodministries.com/event/prayer-room-service/2024-05-21/
LOCATION:Excellent God Ministries\, Lucan Co k78 k248\, Dublin\, Ireland
ATTACH;FMTTYPE=image/jpeg:https://www.excellentgodministries.com/wp-content/uploads/2023/01/bible.jpg
END:VEVENT
BEGIN:VEVENT
DTSTART;TZID=Europe/Dublin:20240526T170000
DTEND;TZID=Europe/Dublin:20240526T183000
DTSTAMP:20260424T185004
CREATED:20230124T193720Z
LAST-MODIFIED:20230124T205817Z
UID:10000070-1716742800-1716748200@www.excellentgodministries.com
SUMMARY:Sunday Service
DESCRIPTION:Join Our Power Packed Sunday Services
URL:https://www.excellentgodministries.com/event/sunday-service/2024-05-26/
LOCATION:Excellent God Ministries\, Lucan Co k78 k248\, Dublin\, Ireland
ATTACH;FMTTYPE=image/jpeg:https://www.excellentgodministries.com/wp-content/uploads/2023/01/WhatsApp-Image-2023-01-24-at-8.18.32-PM.jpeg
END:VEVENT
BEGIN:VEVENT
DTSTART;TZID=Europe/Dublin:20240528T170000
DTEND;TZID=Europe/Dublin:20240528T170000
DTSTAMP:20260424T185004
CREATED:20230124T210205Z
LAST-MODIFIED:20230124T210205Z
UID:10000331-1716915600-1716915600@www.excellentgodministries.com
SUMMARY:Prayer Room Service
DESCRIPTION:
URL:https://www.excellentgodministries.com/event/prayer-room-service/2024-05-28/
LOCATION:Excellent God Ministries\, Lucan Co k78 k248\, Dublin\, Ireland
ATTACH;FMTTYPE=image/jpeg:https://www.excellentgodministries.com/wp-content/uploads/2023/01/bible.jpg
END:VEVENT
BEGIN:VEVENT
DTSTART;TZID=Europe/Dublin:20240602T170000
DTEND;TZID=Europe/Dublin:20240602T183000
DTSTAMP:20260424T185004
CREATED:20230124T193720Z
LAST-MODIFIED:20230124T205817Z
UID:10000071-1717347600-1717353000@www.excellentgodministries.com
SUMMARY:Sunday Service
DESCRIPTION:Join Our Power Packed Sunday Services
URL:https://www.excellentgodministries.com/event/sunday-service/2024-06-02/
LOCATION:Excellent God Ministries\, Lucan Co k78 k248\, Dublin\, Ireland
ATTACH;FMTTYPE=image/jpeg:https://www.excellentgodministries.com/wp-content/uploads/2023/01/WhatsApp-Image-2023-01-24-at-8.18.32-PM.jpeg
END:VEVENT
BEGIN:VEVENT
DTSTART;TZID=Europe/Dublin:20240604T170000
DTEND;TZID=Europe/Dublin:20240604T170000
DTSTAMP:20260424T185004
CREATED:20230124T210205Z
LAST-MODIFIED:20230124T210205Z
UID:10000332-1717520400-1717520400@www.excellentgodministries.com
SUMMARY:Prayer Room Service
DESCRIPTION:
URL:https://www.excellentgodministries.com/event/prayer-room-service/2024-06-04/
LOCATION:Excellent God Ministries\, Lucan Co k78 k248\, Dublin\, Ireland
ATTACH;FMTTYPE=image/jpeg:https://www.excellentgodministries.com/wp-content/uploads/2023/01/bible.jpg
END:VEVENT
BEGIN:VEVENT
DTSTART;TZID=Europe/Dublin:20240609T170000
DTEND;TZID=Europe/Dublin:20240609T183000
DTSTAMP:20260424T185004
CREATED:20230124T193720Z
LAST-MODIFIED:20230124T205817Z
UID:10000072-1717952400-1717957800@www.excellentgodministries.com
SUMMARY:Sunday Service
DESCRIPTION:Join Our Power Packed Sunday Services
URL:https://www.excellentgodministries.com/event/sunday-service/2024-06-09/
LOCATION:Excellent God Ministries\, Lucan Co k78 k248\, Dublin\, Ireland
ATTACH;FMTTYPE=image/jpeg:https://www.excellentgodministries.com/wp-content/uploads/2023/01/WhatsApp-Image-2023-01-24-at-8.18.32-PM.jpeg
END:VEVENT
BEGIN:VEVENT
DTSTART;TZID=Europe/Dublin:20240611T170000
DTEND;TZID=Europe/Dublin:20240611T170000
DTSTAMP:20260424T185004
CREATED:20230124T210205Z
LAST-MODIFIED:20230124T210205Z
UID:10000333-1718125200-1718125200@www.excellentgodministries.com
SUMMARY:Prayer Room Service
DESCRIPTION:
URL:https://www.excellentgodministries.com/event/prayer-room-service/2024-06-11/
LOCATION:Excellent God Ministries\, Lucan Co k78 k248\, Dublin\, Ireland
ATTACH;FMTTYPE=image/jpeg:https://www.excellentgodministries.com/wp-content/uploads/2023/01/bible.jpg
END:VEVENT
BEGIN:VEVENT
DTSTART;TZID=Europe/Dublin:20240616T170000
DTEND;TZID=Europe/Dublin:20240616T183000
DTSTAMP:20260424T185004
CREATED:20230124T193720Z
LAST-MODIFIED:20230124T205817Z
UID:10000073-1718557200-1718562600@www.excellentgodministries.com
SUMMARY:Sunday Service
DESCRIPTION:Join Our Power Packed Sunday Services
URL:https://www.excellentgodministries.com/event/sunday-service/2024-06-16/
LOCATION:Excellent God Ministries\, Lucan Co k78 k248\, Dublin\, Ireland
ATTACH;FMTTYPE=image/jpeg:https://www.excellentgodministries.com/wp-content/uploads/2023/01/WhatsApp-Image-2023-01-24-at-8.18.32-PM.jpeg
END:VEVENT
BEGIN:VEVENT
DTSTART;TZID=Europe/Dublin:20240618T170000
DTEND;TZID=Europe/Dublin:20240618T170000
DTSTAMP:20260424T185004
CREATED:20230124T210205Z
LAST-MODIFIED:20230124T210205Z
UID:10000334-1718730000-1718730000@www.excellentgodministries.com
SUMMARY:Prayer Room Service
DESCRIPTION:
URL:https://www.excellentgodministries.com/event/prayer-room-service/2024-06-18/
LOCATION:Excellent God Ministries\, Lucan Co k78 k248\, Dublin\, Ireland
ATTACH;FMTTYPE=image/jpeg:https://www.excellentgodministries.com/wp-content/uploads/2023/01/bible.jpg
END:VEVENT
BEGIN:VEVENT
DTSTART;TZID=Europe/Dublin:20240623T170000
DTEND;TZID=Europe/Dublin:20240623T183000
DTSTAMP:20260424T185004
CREATED:20230124T193720Z
LAST-MODIFIED:20230124T205817Z
UID:10000074-1719162000-1719167400@www.excellentgodministries.com
SUMMARY:Sunday Service
DESCRIPTION:Join Our Power Packed Sunday Services
URL:https://www.excellentgodministries.com/event/sunday-service/2024-06-23/
LOCATION:Excellent God Ministries\, Lucan Co k78 k248\, Dublin\, Ireland
ATTACH;FMTTYPE=image/jpeg:https://www.excellentgodministries.com/wp-content/uploads/2023/01/WhatsApp-Image-2023-01-24-at-8.18.32-PM.jpeg
END:VEVENT
BEGIN:VEVENT
DTSTART;TZID=Europe/Dublin:20240625T170000
DTEND;TZID=Europe/Dublin:20240625T170000
DTSTAMP:20260424T185004
CREATED:20230124T210205Z
LAST-MODIFIED:20230124T210205Z
UID:10000335-1719334800-1719334800@www.excellentgodministries.com
SUMMARY:Prayer Room Service
DESCRIPTION:
URL:https://www.excellentgodministries.com/event/prayer-room-service/2024-06-25/
LOCATION:Excellent God Ministries\, Lucan Co k78 k248\, Dublin\, Ireland
ATTACH;FMTTYPE=image/jpeg:https://www.excellentgodministries.com/wp-content/uploads/2023/01/bible.jpg
END:VEVENT
BEGIN:VEVENT
DTSTART;TZID=Europe/Dublin:20240630T170000
DTEND;TZID=Europe/Dublin:20240630T183000
DTSTAMP:20260424T185004
CREATED:20230124T193720Z
LAST-MODIFIED:20230124T205817Z
UID:10000075-1719766800-1719772200@www.excellentgodministries.com
SUMMARY:Sunday Service
DESCRIPTION:Join Our Power Packed Sunday Services
URL:https://www.excellentgodministries.com/event/sunday-service/2024-06-30/
LOCATION:Excellent God Ministries\, Lucan Co k78 k248\, Dublin\, Ireland
ATTACH;FMTTYPE=image/jpeg:https://www.excellentgodministries.com/wp-content/uploads/2023/01/WhatsApp-Image-2023-01-24-at-8.18.32-PM.jpeg
END:VEVENT
BEGIN:VEVENT
DTSTART;TZID=Europe/Dublin:20240702T170000
DTEND;TZID=Europe/Dublin:20240702T170000
DTSTAMP:20260424T185004
CREATED:20230124T210205Z
LAST-MODIFIED:20230124T210205Z
UID:10000336-1719939600-1719939600@www.excellentgodministries.com
SUMMARY:Prayer Room Service
DESCRIPTION:
URL:https://www.excellentgodministries.com/event/prayer-room-service/2024-07-02/
LOCATION:Excellent God Ministries\, Lucan Co k78 k248\, Dublin\, Ireland
ATTACH;FMTTYPE=image/jpeg:https://www.excellentgodministries.com/wp-content/uploads/2023/01/bible.jpg
END:VEVENT
END:VCALENDAR